BEGIN:VCALENDAR
VERSION:2.0
PRODID:-//Uptown Young Chabad - ECPv6.15.20//NONSGML v1.0//EN
CALSCALE:GREGORIAN
METHOD:PUBLISH
X-ORIGINAL-URL:https://uptowncyp.com
X-WR-CALDESC:Events for Uptown Young Chabad
REFRESH-INTERVAL;VALUE=DURATION:PT1H
X-Robots-Tag:noindex
X-PUBLISHED-TTL:PT1H
BEGIN:VTIMEZONE
TZID:America/Toronto
BEGIN:DAYLIGHT
TZOFFSETFROM:-0500
TZOFFSETTO:-0400
TZNAME:EDT
DTSTART:20270314T070000
END:DAYLIGHT
BEGIN:STANDARD
TZOFFSETFROM:-0400
TZOFFSETTO:-0500
TZNAME:EST
DTSTART:20271107T060000
END:STANDARD
BEGIN:DAYLIGHT
TZOFFSETFROM:-0500
TZOFFSETTO:-0400
TZNAME:EDT
DTSTART:20280312T070000
END:DAYLIGHT
BEGIN:STANDARD
TZOFFSETFROM:-0400
TZOFFSETTO:-0500
TZNAME:EST
DTSTART:20281105T060000
END:STANDARD
BEGIN:DAYLIGHT
TZOFFSETFROM:-0500
TZOFFSETTO:-0400
TZNAME:EDT
DTSTART:20290311T070000
END:DAYLIGHT
BEGIN:STANDARD
TZOFFSETFROM:-0400
TZOFFSETTO:-0500
TZNAME:EST
DTSTART:20291104T060000
END:STANDARD
END:VTIMEZONE
BEGIN:VEVENT
DTSTART;TZID=America/Toronto:20280311T100000
DTEND;TZID=America/Toronto:20280311T130000
DTSTAMP:20260422T062829
CREATED:20251219T163138Z
LAST-MODIFIED:20251219T205457Z
UID:10002755-1836381600-1836392400@uptowncyp.com
SUMMARY:CYP Shul Lounge
DESCRIPTION:A Reimagined Shul Experience for Young Jews.   \n\n\n\n10:30 Chassidut – Learn about yourself over hot brews & bites.  \n\n\n\n11:00 Tefilla – Prayer & group meditation.  \n\n\n\n12:30 Kiddush Club + Chulent done right \n\n\n\n\n\n\n\n\n\nTo RSVP Email: Rabbisruli@uptownchabad.com
URL:https://uptowncyp.com/event/cyp-shul-lounge-2/2028-03-11/
ATTACH;FMTTYPE=image/jpeg:https://uptowncyp.com/wp-content/uploads/2025/05/Tanya-Class-8-e1746560229890.jpg
END:VEVENT
BEGIN:VEVENT
DTSTART;TZID=America/Toronto:20280318T100000
DTEND;TZID=America/Toronto:20280318T130000
DTSTAMP:20260422T062829
CREATED:20251219T163138Z
LAST-MODIFIED:20251219T205457Z
UID:10002756-1836986400-1836997200@uptowncyp.com
SUMMARY:CYP Shul Lounge
DESCRIPTION:A Reimagined Shul Experience for Young Jews.   \n\n\n\n10:30 Chassidut – Learn about yourself over hot brews & bites.  \n\n\n\n11:00 Tefilla – Prayer & group meditation.  \n\n\n\n12:30 Kiddush Club + Chulent done right \n\n\n\n\n\n\n\n\n\nTo RSVP Email: Rabbisruli@uptownchabad.com
URL:https://uptowncyp.com/event/cyp-shul-lounge-2/2028-03-18/
ATTACH;FMTTYPE=image/jpeg:https://uptowncyp.com/wp-content/uploads/2025/05/Tanya-Class-8-e1746560229890.jpg
END:VEVENT
BEGIN:VEVENT
DTSTART;TZID=America/Toronto:20280325T100000
DTEND;TZID=America/Toronto:20280325T130000
DTSTAMP:20260422T062829
CREATED:20251219T163138Z
LAST-MODIFIED:20251219T205457Z
UID:10002757-1837591200-1837602000@uptowncyp.com
SUMMARY:CYP Shul Lounge
DESCRIPTION:A Reimagined Shul Experience for Young Jews.   \n\n\n\n10:30 Chassidut – Learn about yourself over hot brews & bites.  \n\n\n\n11:00 Tefilla – Prayer & group meditation.  \n\n\n\n12:30 Kiddush Club + Chulent done right \n\n\n\n\n\n\n\n\n\nTo RSVP Email: Rabbisruli@uptownchabad.com
URL:https://uptowncyp.com/event/cyp-shul-lounge-2/2028-03-25/
ATTACH;FMTTYPE=image/jpeg:https://uptowncyp.com/wp-content/uploads/2025/05/Tanya-Class-8-e1746560229890.jpg
END:VEVENT
BEGIN:VEVENT
DTSTART;TZID=America/Toronto:20280401T100000
DTEND;TZID=America/Toronto:20280401T130000
DTSTAMP:20260422T062829
CREATED:20251219T163138Z
LAST-MODIFIED:20251219T205457Z
UID:10002758-1838196000-1838206800@uptowncyp.com
SUMMARY:CYP Shul Lounge
DESCRIPTION:A Reimagined Shul Experience for Young Jews.   \n\n\n\n10:30 Chassidut – Learn about yourself over hot brews & bites.  \n\n\n\n11:00 Tefilla – Prayer & group meditation.  \n\n\n\n12:30 Kiddush Club + Chulent done right \n\n\n\n\n\n\n\n\n\nTo RSVP Email: Rabbisruli@uptownchabad.com
URL:https://uptowncyp.com/event/cyp-shul-lounge-2/2028-04-01/
ATTACH;FMTTYPE=image/jpeg:https://uptowncyp.com/wp-content/uploads/2025/05/Tanya-Class-8-e1746560229890.jpg
END:VEVENT
BEGIN:VEVENT
DTSTART;TZID=America/Toronto:20280408T100000
DTEND;TZID=America/Toronto:20280408T130000
DTSTAMP:20260422T062829
CREATED:20251219T163138Z
LAST-MODIFIED:20251219T205457Z
UID:10002759-1838800800-1838811600@uptowncyp.com
SUMMARY:CYP Shul Lounge
DESCRIPTION:A Reimagined Shul Experience for Young Jews.   \n\n\n\n10:30 Chassidut – Learn about yourself over hot brews & bites.  \n\n\n\n11:00 Tefilla – Prayer & group meditation.  \n\n\n\n12:30 Kiddush Club + Chulent done right \n\n\n\n\n\n\n\n\n\nTo RSVP Email: Rabbisruli@uptownchabad.com
URL:https://uptowncyp.com/event/cyp-shul-lounge-2/2028-04-08/
ATTACH;FMTTYPE=image/jpeg:https://uptowncyp.com/wp-content/uploads/2025/05/Tanya-Class-8-e1746560229890.jpg
END:VEVENT
BEGIN:VEVENT
DTSTART;TZID=America/Toronto:20280415T100000
DTEND;TZID=America/Toronto:20280415T130000
DTSTAMP:20260422T062829
CREATED:20251219T163138Z
LAST-MODIFIED:20251219T205457Z
UID:10002760-1839405600-1839416400@uptowncyp.com
SUMMARY:CYP Shul Lounge
DESCRIPTION:A Reimagined Shul Experience for Young Jews.   \n\n\n\n10:30 Chassidut – Learn about yourself over hot brews & bites.  \n\n\n\n11:00 Tefilla – Prayer & group meditation.  \n\n\n\n12:30 Kiddush Club + Chulent done right \n\n\n\n\n\n\n\n\n\nTo RSVP Email: Rabbisruli@uptownchabad.com
URL:https://uptowncyp.com/event/cyp-shul-lounge-2/2028-04-15/
ATTACH;FMTTYPE=image/jpeg:https://uptowncyp.com/wp-content/uploads/2025/05/Tanya-Class-8-e1746560229890.jpg
END:VEVENT
BEGIN:VEVENT
DTSTART;TZID=America/Toronto:20280422T100000
DTEND;TZID=America/Toronto:20280422T130000
DTSTAMP:20260422T062829
CREATED:20251219T163138Z
LAST-MODIFIED:20251219T205457Z
UID:10002761-1840010400-1840021200@uptowncyp.com
SUMMARY:CYP Shul Lounge
DESCRIPTION:A Reimagined Shul Experience for Young Jews.   \n\n\n\n10:30 Chassidut – Learn about yourself over hot brews & bites.  \n\n\n\n11:00 Tefilla – Prayer & group meditation.  \n\n\n\n12:30 Kiddush Club + Chulent done right \n\n\n\n\n\n\n\n\n\nTo RSVP Email: Rabbisruli@uptownchabad.com
URL:https://uptowncyp.com/event/cyp-shul-lounge-2/2028-04-22/
ATTACH;FMTTYPE=image/jpeg:https://uptowncyp.com/wp-content/uploads/2025/05/Tanya-Class-8-e1746560229890.jpg
END:VEVENT
BEGIN:VEVENT
DTSTART;TZID=America/Toronto:20280429T100000
DTEND;TZID=America/Toronto:20280429T130000
DTSTAMP:20260422T062829
CREATED:20251219T163138Z
LAST-MODIFIED:20251219T205457Z
UID:10002762-1840615200-1840626000@uptowncyp.com
SUMMARY:CYP Shul Lounge
DESCRIPTION:A Reimagined Shul Experience for Young Jews.   \n\n\n\n10:30 Chassidut – Learn about yourself over hot brews & bites.  \n\n\n\n11:00 Tefilla – Prayer & group meditation.  \n\n\n\n12:30 Kiddush Club + Chulent done right \n\n\n\n\n\n\n\n\n\nTo RSVP Email: Rabbisruli@uptownchabad.com
URL:https://uptowncyp.com/event/cyp-shul-lounge-2/2028-04-29/
ATTACH;FMTTYPE=image/jpeg:https://uptowncyp.com/wp-content/uploads/2025/05/Tanya-Class-8-e1746560229890.jpg
END:VEVENT
BEGIN:VEVENT
DTSTART;TZID=America/Toronto:20280506T100000
DTEND;TZID=America/Toronto:20280506T130000
DTSTAMP:20260422T062829
CREATED:20251219T163138Z
LAST-MODIFIED:20251219T205457Z
UID:10002763-1841220000-1841230800@uptowncyp.com
SUMMARY:CYP Shul Lounge
DESCRIPTION:A Reimagined Shul Experience for Young Jews.   \n\n\n\n10:30 Chassidut – Learn about yourself over hot brews & bites.  \n\n\n\n11:00 Tefilla – Prayer & group meditation.  \n\n\n\n12:30 Kiddush Club + Chulent done right \n\n\n\n\n\n\n\n\n\nTo RSVP Email: Rabbisruli@uptownchabad.com
URL:https://uptowncyp.com/event/cyp-shul-lounge-2/2028-05-06/
ATTACH;FMTTYPE=image/jpeg:https://uptowncyp.com/wp-content/uploads/2025/05/Tanya-Class-8-e1746560229890.jpg
END:VEVENT
BEGIN:VEVENT
DTSTART;TZID=America/Toronto:20280513T100000
DTEND;TZID=America/Toronto:20280513T130000
DTSTAMP:20260422T062829
CREATED:20251219T163138Z
LAST-MODIFIED:20251219T205457Z
UID:10002764-1841824800-1841835600@uptowncyp.com
SUMMARY:CYP Shul Lounge
DESCRIPTION:A Reimagined Shul Experience for Young Jews.   \n\n\n\n10:30 Chassidut – Learn about yourself over hot brews & bites.  \n\n\n\n11:00 Tefilla – Prayer & group meditation.  \n\n\n\n12:30 Kiddush Club + Chulent done right \n\n\n\n\n\n\n\n\n\nTo RSVP Email: Rabbisruli@uptownchabad.com
URL:https://uptowncyp.com/event/cyp-shul-lounge-2/2028-05-13/
ATTACH;FMTTYPE=image/jpeg:https://uptowncyp.com/wp-content/uploads/2025/05/Tanya-Class-8-e1746560229890.jpg
END:VEVENT
BEGIN:VEVENT
DTSTART;TZID=America/Toronto:20280520T100000
DTEND;TZID=America/Toronto:20280520T130000
DTSTAMP:20260422T062829
CREATED:20251219T163138Z
LAST-MODIFIED:20251219T205457Z
UID:10002765-1842429600-1842440400@uptowncyp.com
SUMMARY:CYP Shul Lounge
DESCRIPTION:A Reimagined Shul Experience for Young Jews.   \n\n\n\n10:30 Chassidut – Learn about yourself over hot brews & bites.  \n\n\n\n11:00 Tefilla – Prayer & group meditation.  \n\n\n\n12:30 Kiddush Club + Chulent done right \n\n\n\n\n\n\n\n\n\nTo RSVP Email: Rabbisruli@uptownchabad.com
URL:https://uptowncyp.com/event/cyp-shul-lounge-2/2028-05-20/
ATTACH;FMTTYPE=image/jpeg:https://uptowncyp.com/wp-content/uploads/2025/05/Tanya-Class-8-e1746560229890.jpg
END:VEVENT
BEGIN:VEVENT
DTSTART;TZID=America/Toronto:20280527T100000
DTEND;TZID=America/Toronto:20280527T130000
DTSTAMP:20260422T062829
CREATED:20251219T163138Z
LAST-MODIFIED:20251219T205457Z
UID:10002766-1843034400-1843045200@uptowncyp.com
SUMMARY:CYP Shul Lounge
DESCRIPTION:A Reimagined Shul Experience for Young Jews.   \n\n\n\n10:30 Chassidut – Learn about yourself over hot brews & bites.  \n\n\n\n11:00 Tefilla – Prayer & group meditation.  \n\n\n\n12:30 Kiddush Club + Chulent done right \n\n\n\n\n\n\n\n\n\nTo RSVP Email: Rabbisruli@uptownchabad.com
URL:https://uptowncyp.com/event/cyp-shul-lounge-2/2028-05-27/
ATTACH;FMTTYPE=image/jpeg:https://uptowncyp.com/wp-content/uploads/2025/05/Tanya-Class-8-e1746560229890.jpg
END:VEVENT
BEGIN:VEVENT
DTSTART;TZID=America/Toronto:20280603T100000
DTEND;TZID=America/Toronto:20280603T130000
DTSTAMP:20260422T062829
CREATED:20251219T163138Z
LAST-MODIFIED:20251219T205457Z
UID:10002767-1843639200-1843650000@uptowncyp.com
SUMMARY:CYP Shul Lounge
DESCRIPTION:A Reimagined Shul Experience for Young Jews.   \n\n\n\n10:30 Chassidut – Learn about yourself over hot brews & bites.  \n\n\n\n11:00 Tefilla – Prayer & group meditation.  \n\n\n\n12:30 Kiddush Club + Chulent done right \n\n\n\n\n\n\n\n\n\nTo RSVP Email: Rabbisruli@uptownchabad.com
URL:https://uptowncyp.com/event/cyp-shul-lounge-2/2028-06-03/
ATTACH;FMTTYPE=image/jpeg:https://uptowncyp.com/wp-content/uploads/2025/05/Tanya-Class-8-e1746560229890.jpg
END:VEVENT
BEGIN:VEVENT
DTSTART;TZID=America/Toronto:20280610T100000
DTEND;TZID=America/Toronto:20280610T130000
DTSTAMP:20260422T062829
CREATED:20251219T163138Z
LAST-MODIFIED:20251219T205457Z
UID:10002768-1844244000-1844254800@uptowncyp.com
SUMMARY:CYP Shul Lounge
DESCRIPTION:A Reimagined Shul Experience for Young Jews.   \n\n\n\n10:30 Chassidut – Learn about yourself over hot brews & bites.  \n\n\n\n11:00 Tefilla – Prayer & group meditation.  \n\n\n\n12:30 Kiddush Club + Chulent done right \n\n\n\n\n\n\n\n\n\nTo RSVP Email: Rabbisruli@uptownchabad.com
URL:https://uptowncyp.com/event/cyp-shul-lounge-2/2028-06-10/
ATTACH;FMTTYPE=image/jpeg:https://uptowncyp.com/wp-content/uploads/2025/05/Tanya-Class-8-e1746560229890.jpg
END:VEVENT
BEGIN:VEVENT
DTSTART;TZID=America/Toronto:20280617T100000
DTEND;TZID=America/Toronto:20280617T130000
DTSTAMP:20260422T062829
CREATED:20251219T163138Z
LAST-MODIFIED:20251219T205457Z
UID:10002769-1844848800-1844859600@uptowncyp.com
SUMMARY:CYP Shul Lounge
DESCRIPTION:A Reimagined Shul Experience for Young Jews.   \n\n\n\n10:30 Chassidut – Learn about yourself over hot brews & bites.  \n\n\n\n11:00 Tefilla – Prayer & group meditation.  \n\n\n\n12:30 Kiddush Club + Chulent done right \n\n\n\n\n\n\n\n\n\nTo RSVP Email: Rabbisruli@uptownchabad.com
URL:https://uptowncyp.com/event/cyp-shul-lounge-2/2028-06-17/
ATTACH;FMTTYPE=image/jpeg:https://uptowncyp.com/wp-content/uploads/2025/05/Tanya-Class-8-e1746560229890.jpg
END:VEVENT
BEGIN:VEVENT
DTSTART;TZID=America/Toronto:20280624T100000
DTEND;TZID=America/Toronto:20280624T130000
DTSTAMP:20260422T062829
CREATED:20251219T163138Z
LAST-MODIFIED:20251219T205457Z
UID:10002770-1845453600-1845464400@uptowncyp.com
SUMMARY:CYP Shul Lounge
DESCRIPTION:A Reimagined Shul Experience for Young Jews.   \n\n\n\n10:30 Chassidut – Learn about yourself over hot brews & bites.  \n\n\n\n11:00 Tefilla – Prayer & group meditation.  \n\n\n\n12:30 Kiddush Club + Chulent done right \n\n\n\n\n\n\n\n\n\nTo RSVP Email: Rabbisruli@uptownchabad.com
URL:https://uptowncyp.com/event/cyp-shul-lounge-2/2028-06-24/
ATTACH;FMTTYPE=image/jpeg:https://uptowncyp.com/wp-content/uploads/2025/05/Tanya-Class-8-e1746560229890.jpg
END:VEVENT
BEGIN:VEVENT
DTSTART;TZID=America/Toronto:20280701T100000
DTEND;TZID=America/Toronto:20280701T130000
DTSTAMP:20260422T062829
CREATED:20251219T163138Z
LAST-MODIFIED:20251219T205457Z
UID:10002771-1846058400-1846069200@uptowncyp.com
SUMMARY:CYP Shul Lounge
DESCRIPTION:A Reimagined Shul Experience for Young Jews.   \n\n\n\n10:30 Chassidut – Learn about yourself over hot brews & bites.  \n\n\n\n11:00 Tefilla – Prayer & group meditation.  \n\n\n\n12:30 Kiddush Club + Chulent done right \n\n\n\n\n\n\n\n\n\nTo RSVP Email: Rabbisruli@uptownchabad.com
URL:https://uptowncyp.com/event/cyp-shul-lounge-2/2028-07-01/
ATTACH;FMTTYPE=image/jpeg:https://uptowncyp.com/wp-content/uploads/2025/05/Tanya-Class-8-e1746560229890.jpg
END:VEVENT
BEGIN:VEVENT
DTSTART;TZID=America/Toronto:20280708T100000
DTEND;TZID=America/Toronto:20280708T130000
DTSTAMP:20260422T062829
CREATED:20251219T163138Z
LAST-MODIFIED:20251219T205457Z
UID:10002772-1846663200-1846674000@uptowncyp.com
SUMMARY:CYP Shul Lounge
DESCRIPTION:A Reimagined Shul Experience for Young Jews.   \n\n\n\n10:30 Chassidut – Learn about yourself over hot brews & bites.  \n\n\n\n11:00 Tefilla – Prayer & group meditation.  \n\n\n\n12:30 Kiddush Club + Chulent done right \n\n\n\n\n\n\n\n\n\nTo RSVP Email: Rabbisruli@uptownchabad.com
URL:https://uptowncyp.com/event/cyp-shul-lounge-2/2028-07-08/
ATTACH;FMTTYPE=image/jpeg:https://uptowncyp.com/wp-content/uploads/2025/05/Tanya-Class-8-e1746560229890.jpg
END:VEVENT
BEGIN:VEVENT
DTSTART;TZID=America/Toronto:20280715T100000
DTEND;TZID=America/Toronto:20280715T130000
DTSTAMP:20260422T062829
CREATED:20251219T163138Z
LAST-MODIFIED:20251219T205457Z
UID:10002773-1847268000-1847278800@uptowncyp.com
SUMMARY:CYP Shul Lounge
DESCRIPTION:A Reimagined Shul Experience for Young Jews.   \n\n\n\n10:30 Chassidut – Learn about yourself over hot brews & bites.  \n\n\n\n11:00 Tefilla – Prayer & group meditation.  \n\n\n\n12:30 Kiddush Club + Chulent done right \n\n\n\n\n\n\n\n\n\nTo RSVP Email: Rabbisruli@uptownchabad.com
URL:https://uptowncyp.com/event/cyp-shul-lounge-2/2028-07-15/
ATTACH;FMTTYPE=image/jpeg:https://uptowncyp.com/wp-content/uploads/2025/05/Tanya-Class-8-e1746560229890.jpg
END:VEVENT
BEGIN:VEVENT
DTSTART;TZID=America/Toronto:20280722T100000
DTEND;TZID=America/Toronto:20280722T130000
DTSTAMP:20260422T062829
CREATED:20251219T163138Z
LAST-MODIFIED:20251219T205457Z
UID:10002774-1847872800-1847883600@uptowncyp.com
SUMMARY:CYP Shul Lounge
DESCRIPTION:A Reimagined Shul Experience for Young Jews.   \n\n\n\n10:30 Chassidut – Learn about yourself over hot brews & bites.  \n\n\n\n11:00 Tefilla – Prayer & group meditation.  \n\n\n\n12:30 Kiddush Club + Chulent done right \n\n\n\n\n\n\n\n\n\nTo RSVP Email: Rabbisruli@uptownchabad.com
URL:https://uptowncyp.com/event/cyp-shul-lounge-2/2028-07-22/
ATTACH;FMTTYPE=image/jpeg:https://uptowncyp.com/wp-content/uploads/2025/05/Tanya-Class-8-e1746560229890.jpg
END:VEVENT
BEGIN:VEVENT
DTSTART;TZID=America/Toronto:20280729T100000
DTEND;TZID=America/Toronto:20280729T130000
DTSTAMP:20260422T062829
CREATED:20251219T163138Z
LAST-MODIFIED:20251219T205457Z
UID:10002775-1848477600-1848488400@uptowncyp.com
SUMMARY:CYP Shul Lounge
DESCRIPTION:A Reimagined Shul Experience for Young Jews.   \n\n\n\n10:30 Chassidut – Learn about yourself over hot brews & bites.  \n\n\n\n11:00 Tefilla – Prayer & group meditation.  \n\n\n\n12:30 Kiddush Club + Chulent done right \n\n\n\n\n\n\n\n\n\nTo RSVP Email: Rabbisruli@uptownchabad.com
URL:https://uptowncyp.com/event/cyp-shul-lounge-2/2028-07-29/
ATTACH;FMTTYPE=image/jpeg:https://uptowncyp.com/wp-content/uploads/2025/05/Tanya-Class-8-e1746560229890.jpg
END:VEVENT
BEGIN:VEVENT
DTSTART;TZID=America/Toronto:20280805T100000
DTEND;TZID=America/Toronto:20280805T130000
DTSTAMP:20260422T062829
CREATED:20251219T163138Z
LAST-MODIFIED:20251219T205457Z
UID:10002776-1849082400-1849093200@uptowncyp.com
SUMMARY:CYP Shul Lounge
DESCRIPTION:A Reimagined Shul Experience for Young Jews.   \n\n\n\n10:30 Chassidut – Learn about yourself over hot brews & bites.  \n\n\n\n11:00 Tefilla – Prayer & group meditation.  \n\n\n\n12:30 Kiddush Club + Chulent done right \n\n\n\n\n\n\n\n\n\nTo RSVP Email: Rabbisruli@uptownchabad.com
URL:https://uptowncyp.com/event/cyp-shul-lounge-2/2028-08-05/
ATTACH;FMTTYPE=image/jpeg:https://uptowncyp.com/wp-content/uploads/2025/05/Tanya-Class-8-e1746560229890.jpg
END:VEVENT
BEGIN:VEVENT
DTSTART;TZID=America/Toronto:20280812T100000
DTEND;TZID=America/Toronto:20280812T130000
DTSTAMP:20260422T062829
CREATED:20251219T163138Z
LAST-MODIFIED:20251219T205457Z
UID:10002777-1849687200-1849698000@uptowncyp.com
SUMMARY:CYP Shul Lounge
DESCRIPTION:A Reimagined Shul Experience for Young Jews.   \n\n\n\n10:30 Chassidut – Learn about yourself over hot brews & bites.  \n\n\n\n11:00 Tefilla – Prayer & group meditation.  \n\n\n\n12:30 Kiddush Club + Chulent done right \n\n\n\n\n\n\n\n\n\nTo RSVP Email: Rabbisruli@uptownchabad.com
URL:https://uptowncyp.com/event/cyp-shul-lounge-2/2028-08-12/
ATTACH;FMTTYPE=image/jpeg:https://uptowncyp.com/wp-content/uploads/2025/05/Tanya-Class-8-e1746560229890.jpg
END:VEVENT
BEGIN:VEVENT
DTSTART;TZID=America/Toronto:20280819T100000
DTEND;TZID=America/Toronto:20280819T130000
DTSTAMP:20260422T062829
CREATED:20251219T163138Z
LAST-MODIFIED:20251219T205457Z
UID:10002778-1850292000-1850302800@uptowncyp.com
SUMMARY:CYP Shul Lounge
DESCRIPTION:A Reimagined Shul Experience for Young Jews.   \n\n\n\n10:30 Chassidut – Learn about yourself over hot brews & bites.  \n\n\n\n11:00 Tefilla – Prayer & group meditation.  \n\n\n\n12:30 Kiddush Club + Chulent done right \n\n\n\n\n\n\n\n\n\nTo RSVP Email: Rabbisruli@uptownchabad.com
URL:https://uptowncyp.com/event/cyp-shul-lounge-2/2028-08-19/
ATTACH;FMTTYPE=image/jpeg:https://uptowncyp.com/wp-content/uploads/2025/05/Tanya-Class-8-e1746560229890.jpg
END:VEVENT
BEGIN:VEVENT
DTSTART;TZID=America/Toronto:20280826T100000
DTEND;TZID=America/Toronto:20280826T130000
DTSTAMP:20260422T062829
CREATED:20251219T163138Z
LAST-MODIFIED:20251219T205457Z
UID:10002779-1850896800-1850907600@uptowncyp.com
SUMMARY:CYP Shul Lounge
DESCRIPTION:A Reimagined Shul Experience for Young Jews.   \n\n\n\n10:30 Chassidut – Learn about yourself over hot brews & bites.  \n\n\n\n11:00 Tefilla – Prayer & group meditation.  \n\n\n\n12:30 Kiddush Club + Chulent done right \n\n\n\n\n\n\n\n\n\nTo RSVP Email: Rabbisruli@uptownchabad.com
URL:https://uptowncyp.com/event/cyp-shul-lounge-2/2028-08-26/
ATTACH;FMTTYPE=image/jpeg:https://uptowncyp.com/wp-content/uploads/2025/05/Tanya-Class-8-e1746560229890.jpg
END:VEVENT
BEGIN:VEVENT
DTSTART;TZID=America/Toronto:20280902T100000
DTEND;TZID=America/Toronto:20280902T130000
DTSTAMP:20260422T062829
CREATED:20251219T163138Z
LAST-MODIFIED:20251219T205457Z
UID:10002780-1851501600-1851512400@uptowncyp.com
SUMMARY:CYP Shul Lounge
DESCRIPTION:A Reimagined Shul Experience for Young Jews.   \n\n\n\n10:30 Chassidut – Learn about yourself over hot brews & bites.  \n\n\n\n11:00 Tefilla – Prayer & group meditation.  \n\n\n\n12:30 Kiddush Club + Chulent done right \n\n\n\n\n\n\n\n\n\nTo RSVP Email: Rabbisruli@uptownchabad.com
URL:https://uptowncyp.com/event/cyp-shul-lounge-2/2028-09-02/
ATTACH;FMTTYPE=image/jpeg:https://uptowncyp.com/wp-content/uploads/2025/05/Tanya-Class-8-e1746560229890.jpg
END:VEVENT
BEGIN:VEVENT
DTSTART;TZID=America/Toronto:20280909T100000
DTEND;TZID=America/Toronto:20280909T130000
DTSTAMP:20260422T062829
CREATED:20251219T163138Z
LAST-MODIFIED:20251219T205457Z
UID:10002781-1852106400-1852117200@uptowncyp.com
SUMMARY:CYP Shul Lounge
DESCRIPTION:A Reimagined Shul Experience for Young Jews.   \n\n\n\n10:30 Chassidut – Learn about yourself over hot brews & bites.  \n\n\n\n11:00 Tefilla – Prayer & group meditation.  \n\n\n\n12:30 Kiddush Club + Chulent done right \n\n\n\n\n\n\n\n\n\nTo RSVP Email: Rabbisruli@uptownchabad.com
URL:https://uptowncyp.com/event/cyp-shul-lounge-2/2028-09-09/
ATTACH;FMTTYPE=image/jpeg:https://uptowncyp.com/wp-content/uploads/2025/05/Tanya-Class-8-e1746560229890.jpg
END:VEVENT
BEGIN:VEVENT
DTSTART;TZID=America/Toronto:20280916T100000
DTEND;TZID=America/Toronto:20280916T130000
DTSTAMP:20260422T062829
CREATED:20251219T163138Z
LAST-MODIFIED:20251219T205457Z
UID:10002782-1852711200-1852722000@uptowncyp.com
SUMMARY:CYP Shul Lounge
DESCRIPTION:A Reimagined Shul Experience for Young Jews.   \n\n\n\n10:30 Chassidut – Learn about yourself over hot brews & bites.  \n\n\n\n11:00 Tefilla – Prayer & group meditation.  \n\n\n\n12:30 Kiddush Club + Chulent done right \n\n\n\n\n\n\n\n\n\nTo RSVP Email: Rabbisruli@uptownchabad.com
URL:https://uptowncyp.com/event/cyp-shul-lounge-2/2028-09-16/
ATTACH;FMTTYPE=image/jpeg:https://uptowncyp.com/wp-content/uploads/2025/05/Tanya-Class-8-e1746560229890.jpg
END:VEVENT
BEGIN:VEVENT
DTSTART;TZID=America/Toronto:20280923T100000
DTEND;TZID=America/Toronto:20280923T130000
DTSTAMP:20260422T062829
CREATED:20251219T163138Z
LAST-MODIFIED:20251219T205457Z
UID:10002783-1853316000-1853326800@uptowncyp.com
SUMMARY:CYP Shul Lounge
DESCRIPTION:A Reimagined Shul Experience for Young Jews.   \n\n\n\n10:30 Chassidut – Learn about yourself over hot brews & bites.  \n\n\n\n11:00 Tefilla – Prayer & group meditation.  \n\n\n\n12:30 Kiddush Club + Chulent done right \n\n\n\n\n\n\n\n\n\nTo RSVP Email: Rabbisruli@uptownchabad.com
URL:https://uptowncyp.com/event/cyp-shul-lounge-2/2028-09-23/
ATTACH;FMTTYPE=image/jpeg:https://uptowncyp.com/wp-content/uploads/2025/05/Tanya-Class-8-e1746560229890.jpg
END:VEVENT
BEGIN:VEVENT
DTSTART;TZID=America/Toronto:20280930T100000
DTEND;TZID=America/Toronto:20280930T130000
DTSTAMP:20260422T062829
CREATED:20251219T163138Z
LAST-MODIFIED:20251219T205457Z
UID:10002784-1853920800-1853931600@uptowncyp.com
SUMMARY:CYP Shul Lounge
DESCRIPTION:A Reimagined Shul Experience for Young Jews.   \n\n\n\n10:30 Chassidut – Learn about yourself over hot brews & bites.  \n\n\n\n11:00 Tefilla – Prayer & group meditation.  \n\n\n\n12:30 Kiddush Club + Chulent done right \n\n\n\n\n\n\n\n\n\nTo RSVP Email: Rabbisruli@uptownchabad.com
URL:https://uptowncyp.com/event/cyp-shul-lounge-2/2028-09-30/
ATTACH;FMTTYPE=image/jpeg:https://uptowncyp.com/wp-content/uploads/2025/05/Tanya-Class-8-e1746560229890.jpg
END:VEVENT
END:VCALENDAR