BEGIN:VCALENDAR
VERSION:2.0
PRODID:-//Uptown Young Chabad - ECPv6.15.20//NONSGML v1.0//EN
CALSCALE:GREGORIAN
METHOD:PUBLISH
X-WR-CALNAME:Uptown Young Chabad
X-ORIGINAL-URL:https://uptowncyp.com
X-WR-CALDESC:Events for Uptown Young Chabad
REFRESH-INTERVAL;VALUE=DURATION:PT1H
X-Robots-Tag:noindex
X-PUBLISHED-TTL:PT1H
BEGIN:VTIMEZONE
TZID:America/Toronto
BEGIN:DAYLIGHT
TZOFFSETFROM:-0500
TZOFFSETTO:-0400
TZNAME:EDT
DTSTART:20240310T070000
END:DAYLIGHT
BEGIN:STANDARD
TZOFFSETFROM:-0400
TZOFFSETTO:-0500
TZNAME:EST
DTSTART:20241103T060000
END:STANDARD
BEGIN:DAYLIGHT
TZOFFSETFROM:-0500
TZOFFSETTO:-0400
TZNAME:EDT
DTSTART:20250309T070000
END:DAYLIGHT
BEGIN:STANDARD
TZOFFSETFROM:-0400
TZOFFSETTO:-0500
TZNAME:EST
DTSTART:20251102T060000
END:STANDARD
BEGIN:DAYLIGHT
TZOFFSETFROM:-0500
TZOFFSETTO:-0400
TZNAME:EDT
DTSTART:20260308T070000
END:DAYLIGHT
BEGIN:STANDARD
TZOFFSETFROM:-0400
TZOFFSETTO:-0500
TZNAME:EST
DTSTART:20261101T060000
END:STANDARD
END:VTIMEZONE
BEGIN:VEVENT
DTSTART;TZID=America/Toronto:20250510T100000
DTEND;TZID=America/Toronto:20250510T120000
DTSTAMP:20260420T174024
CREATED:20250506T193736Z
LAST-MODIFIED:20251219T163054Z
UID:10000819-1746871200-1746878400@uptowncyp.com
SUMMARY:CYP Shul Lounge
DESCRIPTION:A Reimagined Shul Experience for Young Jews.   \n\n\n\n10:30 Chassidut – Learn about yourself over hot brews & bites.  \n\n\n\n11:00 Tefilla – Prayer & group meditation.  \n\n\n\n12:30 Kiddush Club + Chulent done right \n\n\n\n\n\n\n\n\n\nTo RSVP Email: Rabbisruli@uptownchabad.com
URL:https://uptowncyp.com/event/cyp-shul-lounge/2025-05-10/
ATTACH;FMTTYPE=image/jpeg:https://uptowncyp.com/wp-content/uploads/2025/05/Tanya-Class-8-e1746560229890.jpg
END:VEVENT
BEGIN:VEVENT
DTSTART;TZID=America/Toronto:20250507T190000
DTEND;TZID=America/Toronto:20250507T210000
DTSTAMP:20260420T174024
CREATED:20250424T153705Z
LAST-MODIFIED:20250425T031552Z
UID:10000010-1746644400-1746651600@uptowncyp.com
SUMMARY:New Moon Iyar- Ceramic Cafe
DESCRIPTION:Ceramic Cafe – celebrating the month of Iyar. Grab your bestie\, pick your colors\, and paint your own spring cappuccino cup at the Ceramic Cafe. Slow down\, sip something sweet\, and let your creativity bloom.It’s not just pottery – it’s art therapy for the soul \n\n\n\nCeramic Cafe –  Yonge-Sheppard Center\, lower level\, 4841 Yonge St. \n\n\n\nDirect Subway access and parking are available at the Yonge-Sheppard Center \n\n\n\n\n\n\n\nFill out my LGL Form!
URL:https://uptowncyp.com/event/newmoon/
ATTACH;FMTTYPE=image/jpeg:https://uptowncyp.com/wp-content/uploads/2025/04/image0.jpeg
END:VEVENT
BEGIN:VEVENT
DTSTART;TZID=America/Toronto:20250427T120000
DTEND;TZID=America/Toronto:20250427T130000
DTSTAMP:20260420T174024
CREATED:20250401T183719Z
LAST-MODIFIED:20250425T034726Z
UID:10000009-1745755200-1745758800@uptowncyp.com
SUMMARY:BLT - The Monthly Mentch Club
DESCRIPTION:BLT. (No\, not that one. It’s Bagels\, Lox & Tefillin) \n\n\n\nKickback once monthly on Sunday at noon with the guys and some Tefillin\, Torah thought\, New York style bagels with all the Jewish spreads. (Freshly brewed coffee for the win.) \n\n\n\nRSVP by DMing Rabbi Sruli or rabbisruli@uptownchabad.com
URL:https://uptowncyp.com/event/blt-the-monthly-mentch-club/
CATEGORIES:BLT
ATTACH;FMTTYPE=image/jpeg:https://uptowncyp.com/wp-content/uploads/2025/04/BLT.jpeg
END:VEVENT
BEGIN:VEVENT
DTSTART;TZID=America/Toronto:20250408T190000
DTEND;TZID=America/Toronto:20250408T203000
DTSTAMP:20260420T174024
CREATED:20250225T021144Z
LAST-MODIFIED:20250401T182323Z
UID:10000004-1744138800-1744144200@uptowncyp.com
SUMMARY:Torah & Tequila
DESCRIPTION:Winter-Spring Season​\n\n\n\nTorah Tequila with cozy warm vibes! Join the crew. Feed body & soul at these social learning experiences!  \n\n\n\nScroll Smart: Navigating Healthy Social Media Use   \n\n\n\nMany of us face challenges in managing a balanced and healthy relationship with social media. This course will dive into this issue and explore practical strategies for cultivating a mindful social media presence based on Torah values. With all the Torah Tequila treats and trimmings!  \n\n\n\n5 Evenings At 7:00 PM:  \n\n\n\n\n February 18th\, 25th\n\n\n\n March 11th\, 25th\n\n\n\n April 8th\n\n\n\n\n\nA light dinner will be served at each lesson. ​\n\n\n\nYonge/Sheppard location to be given to registered guests only.\n\n\n\n\nTorah Tequila fills up quickly and there is often a waitlist. If you cannot make it to a lesson you’ve registered for\, kindly let us know asap to allow in others waiting for the spot. \n\n\n\nTorah & Tequila is made possible by the generosity of our donors & Chai Club Members.  \n\n\n\n\n\n\n\nFill out my LGL Form!
URL:https://uptowncyp.com/event/torahtequila/
ATTACH;FMTTYPE=image/jpeg:https://uptowncyp.com/wp-content/uploads/2025/02/f83028_282aa14fabeb4bdbb501dbdcf9ab9eb8mv2.jpg
END:VEVENT
BEGIN:VEVENT
DTSTART;TZID=America/Toronto:20250403T200000
DTEND;TZID=America/Toronto:20250403T200000
DTSTAMP:20260420T174024
CREATED:20250304T175354Z
LAST-MODIFIED:20250304T180642Z
UID:10000005-1743710400-1743710400@uptowncyp.com
SUMMARY:A Date In Toronto! 
DESCRIPTION:For the first time ever\, “Met at Chabad” is coming to Toronto—an exclusive dating event for marriage-minded Jewish singles!  \n\n\n\nThis is your chance to meet like-minded individuals in a warm and welcoming environment\, where real connections happen. If you’re serious about finding your person\, this is the event for you! \n\n\n\nSingle\, or know someone who is? This is a not-to-miss opportunity!  \n\n\n\nLocation: Address provided upon registration acceptance \n\n\n\nDate: April 3rd 2025 \n\n\n\nLimited spots—Sign Up Now and get the early bird pricing!
URL:https://uptowncyp.com/event/a-date-in-toronto/
ATTACH;FMTTYPE=image/jpeg:https://uptowncyp.com/wp-content/uploads/2025/03/Untitled-1080-x-1080-px-Facebook-Cover-1.jpg
END:VEVENT
BEGIN:VEVENT
DTSTART;TZID=America/Toronto:20250402T190000
DTEND;TZID=America/Toronto:20250402T210000
DTSTAMP:20260420T174024
CREATED:20250323T162104Z
LAST-MODIFIED:20250425T011944Z
UID:10000008-1743620400-1743627600@uptowncyp.com
SUMMARY:New Moon Nissan
DESCRIPTION:The New Moon Women’s Circle invites you to a Pre-Passover Evening\, celebrating the New Month of Nissan!   \n\n\n\n\n\nCreate a unique Passover gift for you or a friend. Learn the art of clay sculpting with Edith from Edie’s Arts. Craft your own unique Pesach-themed Jewelry or keychain! \n\n\n\nEnjoy drinks and a delicious Poke bar \n\n\n\nRsvp required by March 27 \n\n\n\n\n\nFill out my LGL Form!
URL:https://uptowncyp.com/event/newmoonnissan/
ATTACH;FMTTYPE=image/jpeg:https://uptowncyp.com/wp-content/uploads/2025/03/Untitled-design-19.jpg
END:VEVENT
BEGIN:VEVENT
DTSTART;TZID=America/Toronto:20250313T200000
DTEND;TZID=America/Toronto:20250313T233000
DTSTAMP:20260420T174024
CREATED:20250225T001416Z
LAST-MODIFIED:20250313T003508Z
UID:10000001-1741896000-1741908600@uptowncyp.com
SUMMARY:The Ultimate Purim Rodeo
DESCRIPTION:Giddy up and join hundreds of young Jewish adults for a rip-roarin’ good time at the Wild West Purim Party!\n\n\n\n🍸 Saloon Bar🍽️ Western-style eats🎶 Live DJ📸 Photo Booth✨ Attendee Raffle📜 Megillah Reading🍬 Hamentaschen station🛍️ Door Giveaway \n\n\n\nCHAI CLUB MEMBERS EXCLUSIVE PRICING! CLICK HERE \n\n\n\n​Click Here to join the club today! \n\n\n\nLimited Spots Available.  \n\n\n\nBathurst/Sheppard location TBA to ticketed guests only.  \n\n\n\nTickets are generously subsidized by donors and members of our Chai Club.  \n\n\n\nHost Committee:  \n\n\n\nAnat Safir\, Natali Tuk\, Cory Katzman\, Ori Mezuman\, Eric Rudefer\, Sophie Sklar\, Jodi Chait. \n\n\n\n\n\nFill out my LGL Form!\n\n\n\n\n​​We thank our generous event sponsors: 
URL:https://uptowncyp.com/event/the-ultimate-purim-rodeo/
ATTACH;FMTTYPE=image/jpeg:https://uptowncyp.com/wp-content/uploads/2025/02/Untitled-1080-x-1080-px-Facebook-Cover-2.jpg
END:VEVENT
BEGIN:VEVENT
DTSTART;TZID=America/Toronto:20250311T190000
DTEND;TZID=America/Toronto:20250311T203000
DTSTAMP:20260420T174024
CREATED:20250225T020233Z
LAST-MODIFIED:20250225T020759Z
UID:10000003-1741719600-1741725000@uptowncyp.com
SUMMARY:Torah & Tequila
DESCRIPTION:Winter-Spring Season​\n\n\n\nTorah Tequila with cozy warm vibes! Join the crew. Feed body & soul at these social learning experiences!  \n\n\n\nScroll Smart: Navigating Healthy Social Media Use   \n\n\n\nMany of us face challenges in managing a balanced and healthy relationship with social media. This course will dive into this issue and explore practical strategies for cultivating a mindful social media presence based on Torah values. With all the Torah Tequila treats and trimmings!  \n\n\n\n5 Evenings At 7:00 PM:  \n\n\n\n\n February 18th\, 25th\n\n\n\n March 11th\, 25th\n\n\n\n April 8th\n\n\n\n\n\nA light dinner will be served at each lesson. ​\n\n\n\nYonge/Sheppard location to be given to registered guests only.\n\n\n\n\nTorah Tequila fills up quickly and there is often a waitlist. If you cannot make it to a lesson you’ve registered for\, kindly let us know asap to allow in others waiting for the spot. \n\n\n\nTorah & Tequila is made possible by the generosity of our donors & Chai Club Members.  \n\n\n\n\n\n\n\nFill out my LGL Form!
URL:https://uptowncyp.com/event/torah-tequila/
ATTACH;FMTTYPE=image/jpeg:https://uptowncyp.com/wp-content/uploads/2025/02/f83028_282aa14fabeb4bdbb501dbdcf9ab9eb8mv2.jpg
END:VEVENT
BEGIN:VEVENT
DTSTART;TZID=America/Toronto:20250306T200000
DTEND;TZID=America/Toronto:20250306T210000
DTSTAMP:20260420T174024
CREATED:20250304T212719Z
LAST-MODIFIED:20250305T191928Z
UID:10000006-1741291200-1741294800@uptowncyp.com
SUMMARY:Talmud 101
DESCRIPTION:A Beginner’s Class For In-Depth Study \n\n\n\nLooking to find out whats in this timeless Jewish classic? No prior experience required.  \n\n\n\nLed By Mr. Mordechai Shachter: Senior Private Banking Advisor At CIBC Wealth Managment \n\n\n\nRSVP by emailing Rabbisruli@uptownchabad.com
URL:https://uptowncyp.com/event/talmud-101/
ATTACH;FMTTYPE=image/jpeg:https://uptowncyp.com/wp-content/uploads/2025/03/Talmud-101.-in-the-Shop-1.jpg
END:VEVENT
BEGIN:VEVENT
DTSTART;TZID=America/Toronto:20250227T190000
DTEND;TZID=America/Toronto:20250227T210000
DTSTAMP:20260420T174024
CREATED:20250225T005848Z
LAST-MODIFIED:20250323T145934Z
UID:10000002-1740682800-1740690000@uptowncyp.com
SUMMARY:New Moon Women's Circle Artisanal Hamantash Bake
DESCRIPTION:The Hamantash – That triangular-shaped\, delightful pocket of sweetness that we enjoy on Purim. Baked by you. What better way to get into the spirit?  \n\n\n\nJoin the Gals of UptownCYP as we munch\, sip & kneed away our holiday treats! \n\n\n\nAdar/Feb: Hamantash Bake \n\n\n\nYonge & Sheppard location TBA to registered guests \n\n\n\nNMWC events are exclusively for young ladies in their 20s &30s. ​​ \n\n\n\nLimited Spots Available. \n\n\n\nNew Moon Woman’s Circle is generously made possible by members of our Chai Club. Sponsorship opportunities are available.  \n\n\n\nNMWC committee:  \n\n\n\nSami Cooper\, Tali Kouchnir\, Sophie Sklar\, Eden Render\, Kelli Sokoloff\, Esther Vlessing\, Hannah Wohl\, Shenhab Zaig. \n\n\n\n\n\nFill out my LGL Form!
URL:https://uptowncyp.com/event/hamantashbake/
ATTACH;FMTTYPE=image/avif:https://uptowncyp.com/wp-content/uploads/2025/02/f83028_4e79b566fbcd4098b207c05a277f783bmv2.avif
END:VEVENT
END:VCALENDAR