BEGIN:VCALENDAR
VERSION:2.0
PRODID:-//Uptown Young Chabad - ECPv6.15.20//NONSGML v1.0//EN
CALSCALE:GREGORIAN
METHOD:PUBLISH
X-WR-CALNAME:Uptown Young Chabad
X-ORIGINAL-URL:https://uptowncyp.com
X-WR-CALDESC:Events for Uptown Young Chabad
REFRESH-INTERVAL;VALUE=DURATION:PT1H
X-Robots-Tag:noindex
X-PUBLISHED-TTL:PT1H
BEGIN:VTIMEZONE
TZID:America/Toronto
BEGIN:DAYLIGHT
TZOFFSETFROM:-0500
TZOFFSETTO:-0400
TZNAME:EDT
DTSTART:20280312T070000
END:DAYLIGHT
BEGIN:STANDARD
TZOFFSETFROM:-0400
TZOFFSETTO:-0500
TZNAME:EST
DTSTART:20281105T060000
END:STANDARD
BEGIN:DAYLIGHT
TZOFFSETFROM:-0500
TZOFFSETTO:-0400
TZNAME:EDT
DTSTART:20290311T070000
END:DAYLIGHT
BEGIN:STANDARD
TZOFFSETFROM:-0400
TZOFFSETTO:-0500
TZNAME:EST
DTSTART:20291104T060000
END:STANDARD
BEGIN:DAYLIGHT
TZOFFSETFROM:-0500
TZOFFSETTO:-0400
TZNAME:EDT
DTSTART:20300310T070000
END:DAYLIGHT
BEGIN:STANDARD
TZOFFSETFROM:-0400
TZOFFSETTO:-0500
TZNAME:EST
DTSTART:20301103T060000
END:STANDARD
END:VTIMEZONE
BEGIN:VEVENT
DTSTART;TZID=America/Toronto:20290224T100000
DTEND;TZID=America/Toronto:20290224T130000
DTSTAMP:20260421T002136
CREATED:20251219T163138Z
LAST-MODIFIED:20251219T205457Z
UID:10002805-1866621600-1866632400@uptowncyp.com
SUMMARY:CYP Shul Lounge
DESCRIPTION:A Reimagined Shul Experience for Young Jews.   \n\n\n\n10:30 Chassidut – Learn about yourself over hot brews & bites.  \n\n\n\n11:00 Tefilla – Prayer & group meditation.  \n\n\n\n12:30 Kiddush Club + Chulent done right \n\n\n\n\n\n\n\n\n\nTo RSVP Email: Rabbisruli@uptownchabad.com
URL:https://uptowncyp.com/event/cyp-shul-lounge-2/2029-02-24/
ATTACH;FMTTYPE=image/jpeg:https://uptowncyp.com/wp-content/uploads/2025/05/Tanya-Class-8-e1746560229890.jpg
END:VEVENT
BEGIN:VEVENT
DTSTART;TZID=America/Toronto:20290303T100000
DTEND;TZID=America/Toronto:20290303T130000
DTSTAMP:20260421T002136
CREATED:20251219T163138Z
LAST-MODIFIED:20251219T205457Z
UID:10002806-1867226400-1867237200@uptowncyp.com
SUMMARY:CYP Shul Lounge
DESCRIPTION:A Reimagined Shul Experience for Young Jews.   \n\n\n\n10:30 Chassidut – Learn about yourself over hot brews & bites.  \n\n\n\n11:00 Tefilla – Prayer & group meditation.  \n\n\n\n12:30 Kiddush Club + Chulent done right \n\n\n\n\n\n\n\n\n\nTo RSVP Email: Rabbisruli@uptownchabad.com
URL:https://uptowncyp.com/event/cyp-shul-lounge-2/2029-03-03/
ATTACH;FMTTYPE=image/jpeg:https://uptowncyp.com/wp-content/uploads/2025/05/Tanya-Class-8-e1746560229890.jpg
END:VEVENT
BEGIN:VEVENT
DTSTART;TZID=America/Toronto:20290310T100000
DTEND;TZID=America/Toronto:20290310T130000
DTSTAMP:20260421T002136
CREATED:20251219T163138Z
LAST-MODIFIED:20251219T205457Z
UID:10002807-1867831200-1867842000@uptowncyp.com
SUMMARY:CYP Shul Lounge
DESCRIPTION:A Reimagined Shul Experience for Young Jews.   \n\n\n\n10:30 Chassidut – Learn about yourself over hot brews & bites.  \n\n\n\n11:00 Tefilla – Prayer & group meditation.  \n\n\n\n12:30 Kiddush Club + Chulent done right \n\n\n\n\n\n\n\n\n\nTo RSVP Email: Rabbisruli@uptownchabad.com
URL:https://uptowncyp.com/event/cyp-shul-lounge-2/2029-03-10/
ATTACH;FMTTYPE=image/jpeg:https://uptowncyp.com/wp-content/uploads/2025/05/Tanya-Class-8-e1746560229890.jpg
END:VEVENT
BEGIN:VEVENT
DTSTART;TZID=America/Toronto:20290317T100000
DTEND;TZID=America/Toronto:20290317T130000
DTSTAMP:20260421T002136
CREATED:20251219T163138Z
LAST-MODIFIED:20251219T205457Z
UID:10002808-1868436000-1868446800@uptowncyp.com
SUMMARY:CYP Shul Lounge
DESCRIPTION:A Reimagined Shul Experience for Young Jews.   \n\n\n\n10:30 Chassidut – Learn about yourself over hot brews & bites.  \n\n\n\n11:00 Tefilla – Prayer & group meditation.  \n\n\n\n12:30 Kiddush Club + Chulent done right \n\n\n\n\n\n\n\n\n\nTo RSVP Email: Rabbisruli@uptownchabad.com
URL:https://uptowncyp.com/event/cyp-shul-lounge-2/2029-03-17/
ATTACH;FMTTYPE=image/jpeg:https://uptowncyp.com/wp-content/uploads/2025/05/Tanya-Class-8-e1746560229890.jpg
END:VEVENT
BEGIN:VEVENT
DTSTART;TZID=America/Toronto:20290324T100000
DTEND;TZID=America/Toronto:20290324T130000
DTSTAMP:20260421T002136
CREATED:20251219T163138Z
LAST-MODIFIED:20251219T205457Z
UID:10002809-1869040800-1869051600@uptowncyp.com
SUMMARY:CYP Shul Lounge
DESCRIPTION:A Reimagined Shul Experience for Young Jews.   \n\n\n\n10:30 Chassidut – Learn about yourself over hot brews & bites.  \n\n\n\n11:00 Tefilla – Prayer & group meditation.  \n\n\n\n12:30 Kiddush Club + Chulent done right \n\n\n\n\n\n\n\n\n\nTo RSVP Email: Rabbisruli@uptownchabad.com
URL:https://uptowncyp.com/event/cyp-shul-lounge-2/2029-03-24/
ATTACH;FMTTYPE=image/jpeg:https://uptowncyp.com/wp-content/uploads/2025/05/Tanya-Class-8-e1746560229890.jpg
END:VEVENT
BEGIN:VEVENT
DTSTART;TZID=America/Toronto:20290331T100000
DTEND;TZID=America/Toronto:20290331T130000
DTSTAMP:20260421T002136
CREATED:20251219T163138Z
LAST-MODIFIED:20251219T205457Z
UID:10002810-1869645600-1869656400@uptowncyp.com
SUMMARY:CYP Shul Lounge
DESCRIPTION:A Reimagined Shul Experience for Young Jews.   \n\n\n\n10:30 Chassidut – Learn about yourself over hot brews & bites.  \n\n\n\n11:00 Tefilla – Prayer & group meditation.  \n\n\n\n12:30 Kiddush Club + Chulent done right \n\n\n\n\n\n\n\n\n\nTo RSVP Email: Rabbisruli@uptownchabad.com
URL:https://uptowncyp.com/event/cyp-shul-lounge-2/2029-03-31/
ATTACH;FMTTYPE=image/jpeg:https://uptowncyp.com/wp-content/uploads/2025/05/Tanya-Class-8-e1746560229890.jpg
END:VEVENT
BEGIN:VEVENT
DTSTART;TZID=America/Toronto:20290407T100000
DTEND;TZID=America/Toronto:20290407T130000
DTSTAMP:20260421T002136
CREATED:20251219T163138Z
LAST-MODIFIED:20251219T205457Z
UID:10002811-1870250400-1870261200@uptowncyp.com
SUMMARY:CYP Shul Lounge
DESCRIPTION:A Reimagined Shul Experience for Young Jews.   \n\n\n\n10:30 Chassidut – Learn about yourself over hot brews & bites.  \n\n\n\n11:00 Tefilla – Prayer & group meditation.  \n\n\n\n12:30 Kiddush Club + Chulent done right \n\n\n\n\n\n\n\n\n\nTo RSVP Email: Rabbisruli@uptownchabad.com
URL:https://uptowncyp.com/event/cyp-shul-lounge-2/2029-04-07/
ATTACH;FMTTYPE=image/jpeg:https://uptowncyp.com/wp-content/uploads/2025/05/Tanya-Class-8-e1746560229890.jpg
END:VEVENT
BEGIN:VEVENT
DTSTART;TZID=America/Toronto:20290414T100000
DTEND;TZID=America/Toronto:20290414T130000
DTSTAMP:20260421T002136
CREATED:20251219T163138Z
LAST-MODIFIED:20251219T205457Z
UID:10002812-1870855200-1870866000@uptowncyp.com
SUMMARY:CYP Shul Lounge
DESCRIPTION:A Reimagined Shul Experience for Young Jews.   \n\n\n\n10:30 Chassidut – Learn about yourself over hot brews & bites.  \n\n\n\n11:00 Tefilla – Prayer & group meditation.  \n\n\n\n12:30 Kiddush Club + Chulent done right \n\n\n\n\n\n\n\n\n\nTo RSVP Email: Rabbisruli@uptownchabad.com
URL:https://uptowncyp.com/event/cyp-shul-lounge-2/2029-04-14/
ATTACH;FMTTYPE=image/jpeg:https://uptowncyp.com/wp-content/uploads/2025/05/Tanya-Class-8-e1746560229890.jpg
END:VEVENT
BEGIN:VEVENT
DTSTART;TZID=America/Toronto:20290421T100000
DTEND;TZID=America/Toronto:20290421T130000
DTSTAMP:20260421T002136
CREATED:20251219T163138Z
LAST-MODIFIED:20251219T205457Z
UID:10002813-1871460000-1871470800@uptowncyp.com
SUMMARY:CYP Shul Lounge
DESCRIPTION:A Reimagined Shul Experience for Young Jews.   \n\n\n\n10:30 Chassidut – Learn about yourself over hot brews & bites.  \n\n\n\n11:00 Tefilla – Prayer & group meditation.  \n\n\n\n12:30 Kiddush Club + Chulent done right \n\n\n\n\n\n\n\n\n\nTo RSVP Email: Rabbisruli@uptownchabad.com
URL:https://uptowncyp.com/event/cyp-shul-lounge-2/2029-04-21/
ATTACH;FMTTYPE=image/jpeg:https://uptowncyp.com/wp-content/uploads/2025/05/Tanya-Class-8-e1746560229890.jpg
END:VEVENT
BEGIN:VEVENT
DTSTART;TZID=America/Toronto:20290428T100000
DTEND;TZID=America/Toronto:20290428T130000
DTSTAMP:20260421T002136
CREATED:20251219T163138Z
LAST-MODIFIED:20251219T205457Z
UID:10002814-1872064800-1872075600@uptowncyp.com
SUMMARY:CYP Shul Lounge
DESCRIPTION:A Reimagined Shul Experience for Young Jews.   \n\n\n\n10:30 Chassidut – Learn about yourself over hot brews & bites.  \n\n\n\n11:00 Tefilla – Prayer & group meditation.  \n\n\n\n12:30 Kiddush Club + Chulent done right \n\n\n\n\n\n\n\n\n\nTo RSVP Email: Rabbisruli@uptownchabad.com
URL:https://uptowncyp.com/event/cyp-shul-lounge-2/2029-04-28/
ATTACH;FMTTYPE=image/jpeg:https://uptowncyp.com/wp-content/uploads/2025/05/Tanya-Class-8-e1746560229890.jpg
END:VEVENT
BEGIN:VEVENT
DTSTART;TZID=America/Toronto:20290505T100000
DTEND;TZID=America/Toronto:20290505T130000
DTSTAMP:20260421T002136
CREATED:20251219T163138Z
LAST-MODIFIED:20251219T205457Z
UID:10002815-1872669600-1872680400@uptowncyp.com
SUMMARY:CYP Shul Lounge
DESCRIPTION:A Reimagined Shul Experience for Young Jews.   \n\n\n\n10:30 Chassidut – Learn about yourself over hot brews & bites.  \n\n\n\n11:00 Tefilla – Prayer & group meditation.  \n\n\n\n12:30 Kiddush Club + Chulent done right \n\n\n\n\n\n\n\n\n\nTo RSVP Email: Rabbisruli@uptownchabad.com
URL:https://uptowncyp.com/event/cyp-shul-lounge-2/2029-05-05/
ATTACH;FMTTYPE=image/jpeg:https://uptowncyp.com/wp-content/uploads/2025/05/Tanya-Class-8-e1746560229890.jpg
END:VEVENT
BEGIN:VEVENT
DTSTART;TZID=America/Toronto:20290512T100000
DTEND;TZID=America/Toronto:20290512T130000
DTSTAMP:20260421T002136
CREATED:20251219T163138Z
LAST-MODIFIED:20251219T205457Z
UID:10002816-1873274400-1873285200@uptowncyp.com
SUMMARY:CYP Shul Lounge
DESCRIPTION:A Reimagined Shul Experience for Young Jews.   \n\n\n\n10:30 Chassidut – Learn about yourself over hot brews & bites.  \n\n\n\n11:00 Tefilla – Prayer & group meditation.  \n\n\n\n12:30 Kiddush Club + Chulent done right \n\n\n\n\n\n\n\n\n\nTo RSVP Email: Rabbisruli@uptownchabad.com
URL:https://uptowncyp.com/event/cyp-shul-lounge-2/2029-05-12/
ATTACH;FMTTYPE=image/jpeg:https://uptowncyp.com/wp-content/uploads/2025/05/Tanya-Class-8-e1746560229890.jpg
END:VEVENT
BEGIN:VEVENT
DTSTART;TZID=America/Toronto:20290519T100000
DTEND;TZID=America/Toronto:20290519T130000
DTSTAMP:20260421T002136
CREATED:20251219T163138Z
LAST-MODIFIED:20251219T205457Z
UID:10002817-1873879200-1873890000@uptowncyp.com
SUMMARY:CYP Shul Lounge
DESCRIPTION:A Reimagined Shul Experience for Young Jews.   \n\n\n\n10:30 Chassidut – Learn about yourself over hot brews & bites.  \n\n\n\n11:00 Tefilla – Prayer & group meditation.  \n\n\n\n12:30 Kiddush Club + Chulent done right \n\n\n\n\n\n\n\n\n\nTo RSVP Email: Rabbisruli@uptownchabad.com
URL:https://uptowncyp.com/event/cyp-shul-lounge-2/2029-05-19/
ATTACH;FMTTYPE=image/jpeg:https://uptowncyp.com/wp-content/uploads/2025/05/Tanya-Class-8-e1746560229890.jpg
END:VEVENT
BEGIN:VEVENT
DTSTART;TZID=America/Toronto:20290526T100000
DTEND;TZID=America/Toronto:20290526T130000
DTSTAMP:20260421T002136
CREATED:20251219T163138Z
LAST-MODIFIED:20251219T205457Z
UID:10002818-1874484000-1874494800@uptowncyp.com
SUMMARY:CYP Shul Lounge
DESCRIPTION:A Reimagined Shul Experience for Young Jews.   \n\n\n\n10:30 Chassidut – Learn about yourself over hot brews & bites.  \n\n\n\n11:00 Tefilla – Prayer & group meditation.  \n\n\n\n12:30 Kiddush Club + Chulent done right \n\n\n\n\n\n\n\n\n\nTo RSVP Email: Rabbisruli@uptownchabad.com
URL:https://uptowncyp.com/event/cyp-shul-lounge-2/2029-05-26/
ATTACH;FMTTYPE=image/jpeg:https://uptowncyp.com/wp-content/uploads/2025/05/Tanya-Class-8-e1746560229890.jpg
END:VEVENT
BEGIN:VEVENT
DTSTART;TZID=America/Toronto:20290602T100000
DTEND;TZID=America/Toronto:20290602T130000
DTSTAMP:20260421T002136
CREATED:20251219T163138Z
LAST-MODIFIED:20251219T205457Z
UID:10002819-1875088800-1875099600@uptowncyp.com
SUMMARY:CYP Shul Lounge
DESCRIPTION:A Reimagined Shul Experience for Young Jews.   \n\n\n\n10:30 Chassidut – Learn about yourself over hot brews & bites.  \n\n\n\n11:00 Tefilla – Prayer & group meditation.  \n\n\n\n12:30 Kiddush Club + Chulent done right \n\n\n\n\n\n\n\n\n\nTo RSVP Email: Rabbisruli@uptownchabad.com
URL:https://uptowncyp.com/event/cyp-shul-lounge-2/2029-06-02/
ATTACH;FMTTYPE=image/jpeg:https://uptowncyp.com/wp-content/uploads/2025/05/Tanya-Class-8-e1746560229890.jpg
END:VEVENT
BEGIN:VEVENT
DTSTART;TZID=America/Toronto:20290609T100000
DTEND;TZID=America/Toronto:20290609T130000
DTSTAMP:20260421T002136
CREATED:20251219T163138Z
LAST-MODIFIED:20251219T205457Z
UID:10002820-1875693600-1875704400@uptowncyp.com
SUMMARY:CYP Shul Lounge
DESCRIPTION:A Reimagined Shul Experience for Young Jews.   \n\n\n\n10:30 Chassidut – Learn about yourself over hot brews & bites.  \n\n\n\n11:00 Tefilla – Prayer & group meditation.  \n\n\n\n12:30 Kiddush Club + Chulent done right \n\n\n\n\n\n\n\n\n\nTo RSVP Email: Rabbisruli@uptownchabad.com
URL:https://uptowncyp.com/event/cyp-shul-lounge-2/2029-06-09/
ATTACH;FMTTYPE=image/jpeg:https://uptowncyp.com/wp-content/uploads/2025/05/Tanya-Class-8-e1746560229890.jpg
END:VEVENT
BEGIN:VEVENT
DTSTART;TZID=America/Toronto:20290616T100000
DTEND;TZID=America/Toronto:20290616T130000
DTSTAMP:20260421T002136
CREATED:20251219T163138Z
LAST-MODIFIED:20251219T205457Z
UID:10002821-1876298400-1876309200@uptowncyp.com
SUMMARY:CYP Shul Lounge
DESCRIPTION:A Reimagined Shul Experience for Young Jews.   \n\n\n\n10:30 Chassidut – Learn about yourself over hot brews & bites.  \n\n\n\n11:00 Tefilla – Prayer & group meditation.  \n\n\n\n12:30 Kiddush Club + Chulent done right \n\n\n\n\n\n\n\n\n\nTo RSVP Email: Rabbisruli@uptownchabad.com
URL:https://uptowncyp.com/event/cyp-shul-lounge-2/2029-06-16/
ATTACH;FMTTYPE=image/jpeg:https://uptowncyp.com/wp-content/uploads/2025/05/Tanya-Class-8-e1746560229890.jpg
END:VEVENT
BEGIN:VEVENT
DTSTART;TZID=America/Toronto:20290623T100000
DTEND;TZID=America/Toronto:20290623T130000
DTSTAMP:20260421T002136
CREATED:20251219T163138Z
LAST-MODIFIED:20251219T205457Z
UID:10002822-1876903200-1876914000@uptowncyp.com
SUMMARY:CYP Shul Lounge
DESCRIPTION:A Reimagined Shul Experience for Young Jews.   \n\n\n\n10:30 Chassidut – Learn about yourself over hot brews & bites.  \n\n\n\n11:00 Tefilla – Prayer & group meditation.  \n\n\n\n12:30 Kiddush Club + Chulent done right \n\n\n\n\n\n\n\n\n\nTo RSVP Email: Rabbisruli@uptownchabad.com
URL:https://uptowncyp.com/event/cyp-shul-lounge-2/2029-06-23/
ATTACH;FMTTYPE=image/jpeg:https://uptowncyp.com/wp-content/uploads/2025/05/Tanya-Class-8-e1746560229890.jpg
END:VEVENT
BEGIN:VEVENT
DTSTART;TZID=America/Toronto:20290630T100000
DTEND;TZID=America/Toronto:20290630T130000
DTSTAMP:20260421T002136
CREATED:20251219T163138Z
LAST-MODIFIED:20251219T205457Z
UID:10002823-1877508000-1877518800@uptowncyp.com
SUMMARY:CYP Shul Lounge
DESCRIPTION:A Reimagined Shul Experience for Young Jews.   \n\n\n\n10:30 Chassidut – Learn about yourself over hot brews & bites.  \n\n\n\n11:00 Tefilla – Prayer & group meditation.  \n\n\n\n12:30 Kiddush Club + Chulent done right \n\n\n\n\n\n\n\n\n\nTo RSVP Email: Rabbisruli@uptownchabad.com
URL:https://uptowncyp.com/event/cyp-shul-lounge-2/2029-06-30/
ATTACH;FMTTYPE=image/jpeg:https://uptowncyp.com/wp-content/uploads/2025/05/Tanya-Class-8-e1746560229890.jpg
END:VEVENT
BEGIN:VEVENT
DTSTART;TZID=America/Toronto:20290707T100000
DTEND;TZID=America/Toronto:20290707T130000
DTSTAMP:20260421T002136
CREATED:20251219T163138Z
LAST-MODIFIED:20251219T205457Z
UID:10002824-1878112800-1878123600@uptowncyp.com
SUMMARY:CYP Shul Lounge
DESCRIPTION:A Reimagined Shul Experience for Young Jews.   \n\n\n\n10:30 Chassidut – Learn about yourself over hot brews & bites.  \n\n\n\n11:00 Tefilla – Prayer & group meditation.  \n\n\n\n12:30 Kiddush Club + Chulent done right \n\n\n\n\n\n\n\n\n\nTo RSVP Email: Rabbisruli@uptownchabad.com
URL:https://uptowncyp.com/event/cyp-shul-lounge-2/2029-07-07/
ATTACH;FMTTYPE=image/jpeg:https://uptowncyp.com/wp-content/uploads/2025/05/Tanya-Class-8-e1746560229890.jpg
END:VEVENT
BEGIN:VEVENT
DTSTART;TZID=America/Toronto:20290714T100000
DTEND;TZID=America/Toronto:20290714T130000
DTSTAMP:20260421T002136
CREATED:20251219T163138Z
LAST-MODIFIED:20251219T205457Z
UID:10002825-1878717600-1878728400@uptowncyp.com
SUMMARY:CYP Shul Lounge
DESCRIPTION:A Reimagined Shul Experience for Young Jews.   \n\n\n\n10:30 Chassidut – Learn about yourself over hot brews & bites.  \n\n\n\n11:00 Tefilla – Prayer & group meditation.  \n\n\n\n12:30 Kiddush Club + Chulent done right \n\n\n\n\n\n\n\n\n\nTo RSVP Email: Rabbisruli@uptownchabad.com
URL:https://uptowncyp.com/event/cyp-shul-lounge-2/2029-07-14/
ATTACH;FMTTYPE=image/jpeg:https://uptowncyp.com/wp-content/uploads/2025/05/Tanya-Class-8-e1746560229890.jpg
END:VEVENT
BEGIN:VEVENT
DTSTART;TZID=America/Toronto:20290721T100000
DTEND;TZID=America/Toronto:20290721T130000
DTSTAMP:20260421T002136
CREATED:20251219T163138Z
LAST-MODIFIED:20251219T205457Z
UID:10002826-1879322400-1879333200@uptowncyp.com
SUMMARY:CYP Shul Lounge
DESCRIPTION:A Reimagined Shul Experience for Young Jews.   \n\n\n\n10:30 Chassidut – Learn about yourself over hot brews & bites.  \n\n\n\n11:00 Tefilla – Prayer & group meditation.  \n\n\n\n12:30 Kiddush Club + Chulent done right \n\n\n\n\n\n\n\n\n\nTo RSVP Email: Rabbisruli@uptownchabad.com
URL:https://uptowncyp.com/event/cyp-shul-lounge-2/2029-07-21/
ATTACH;FMTTYPE=image/jpeg:https://uptowncyp.com/wp-content/uploads/2025/05/Tanya-Class-8-e1746560229890.jpg
END:VEVENT
BEGIN:VEVENT
DTSTART;TZID=America/Toronto:20290728T100000
DTEND;TZID=America/Toronto:20290728T130000
DTSTAMP:20260421T002136
CREATED:20251219T163138Z
LAST-MODIFIED:20251219T205457Z
UID:10002827-1879927200-1879938000@uptowncyp.com
SUMMARY:CYP Shul Lounge
DESCRIPTION:A Reimagined Shul Experience for Young Jews.   \n\n\n\n10:30 Chassidut – Learn about yourself over hot brews & bites.  \n\n\n\n11:00 Tefilla – Prayer & group meditation.  \n\n\n\n12:30 Kiddush Club + Chulent done right \n\n\n\n\n\n\n\n\n\nTo RSVP Email: Rabbisruli@uptownchabad.com
URL:https://uptowncyp.com/event/cyp-shul-lounge-2/2029-07-28/
ATTACH;FMTTYPE=image/jpeg:https://uptowncyp.com/wp-content/uploads/2025/05/Tanya-Class-8-e1746560229890.jpg
END:VEVENT
BEGIN:VEVENT
DTSTART;TZID=America/Toronto:20290804T100000
DTEND;TZID=America/Toronto:20290804T130000
DTSTAMP:20260421T002136
CREATED:20251219T163138Z
LAST-MODIFIED:20251219T205457Z
UID:10002828-1880532000-1880542800@uptowncyp.com
SUMMARY:CYP Shul Lounge
DESCRIPTION:A Reimagined Shul Experience for Young Jews.   \n\n\n\n10:30 Chassidut – Learn about yourself over hot brews & bites.  \n\n\n\n11:00 Tefilla – Prayer & group meditation.  \n\n\n\n12:30 Kiddush Club + Chulent done right \n\n\n\n\n\n\n\n\n\nTo RSVP Email: Rabbisruli@uptownchabad.com
URL:https://uptowncyp.com/event/cyp-shul-lounge-2/2029-08-04/
ATTACH;FMTTYPE=image/jpeg:https://uptowncyp.com/wp-content/uploads/2025/05/Tanya-Class-8-e1746560229890.jpg
END:VEVENT
BEGIN:VEVENT
DTSTART;TZID=America/Toronto:20290811T100000
DTEND;TZID=America/Toronto:20290811T130000
DTSTAMP:20260421T002136
CREATED:20251219T163138Z
LAST-MODIFIED:20251219T205457Z
UID:10002829-1881136800-1881147600@uptowncyp.com
SUMMARY:CYP Shul Lounge
DESCRIPTION:A Reimagined Shul Experience for Young Jews.   \n\n\n\n10:30 Chassidut – Learn about yourself over hot brews & bites.  \n\n\n\n11:00 Tefilla – Prayer & group meditation.  \n\n\n\n12:30 Kiddush Club + Chulent done right \n\n\n\n\n\n\n\n\n\nTo RSVP Email: Rabbisruli@uptownchabad.com
URL:https://uptowncyp.com/event/cyp-shul-lounge-2/2029-08-11/
ATTACH;FMTTYPE=image/jpeg:https://uptowncyp.com/wp-content/uploads/2025/05/Tanya-Class-8-e1746560229890.jpg
END:VEVENT
BEGIN:VEVENT
DTSTART;TZID=America/Toronto:20290818T100000
DTEND;TZID=America/Toronto:20290818T130000
DTSTAMP:20260421T002136
CREATED:20251219T163138Z
LAST-MODIFIED:20251219T205457Z
UID:10002830-1881741600-1881752400@uptowncyp.com
SUMMARY:CYP Shul Lounge
DESCRIPTION:A Reimagined Shul Experience for Young Jews.   \n\n\n\n10:30 Chassidut – Learn about yourself over hot brews & bites.  \n\n\n\n11:00 Tefilla – Prayer & group meditation.  \n\n\n\n12:30 Kiddush Club + Chulent done right \n\n\n\n\n\n\n\n\n\nTo RSVP Email: Rabbisruli@uptownchabad.com
URL:https://uptowncyp.com/event/cyp-shul-lounge-2/2029-08-18/
ATTACH;FMTTYPE=image/jpeg:https://uptowncyp.com/wp-content/uploads/2025/05/Tanya-Class-8-e1746560229890.jpg
END:VEVENT
BEGIN:VEVENT
DTSTART;TZID=America/Toronto:20290825T100000
DTEND;TZID=America/Toronto:20290825T130000
DTSTAMP:20260421T002136
CREATED:20251219T163138Z
LAST-MODIFIED:20251219T205457Z
UID:10002831-1882346400-1882357200@uptowncyp.com
SUMMARY:CYP Shul Lounge
DESCRIPTION:A Reimagined Shul Experience for Young Jews.   \n\n\n\n10:30 Chassidut – Learn about yourself over hot brews & bites.  \n\n\n\n11:00 Tefilla – Prayer & group meditation.  \n\n\n\n12:30 Kiddush Club + Chulent done right \n\n\n\n\n\n\n\n\n\nTo RSVP Email: Rabbisruli@uptownchabad.com
URL:https://uptowncyp.com/event/cyp-shul-lounge-2/2029-08-25/
ATTACH;FMTTYPE=image/jpeg:https://uptowncyp.com/wp-content/uploads/2025/05/Tanya-Class-8-e1746560229890.jpg
END:VEVENT
BEGIN:VEVENT
DTSTART;TZID=America/Toronto:20290901T100000
DTEND;TZID=America/Toronto:20290901T130000
DTSTAMP:20260421T002136
CREATED:20251219T163138Z
LAST-MODIFIED:20251219T205457Z
UID:10002832-1882951200-1882962000@uptowncyp.com
SUMMARY:CYP Shul Lounge
DESCRIPTION:A Reimagined Shul Experience for Young Jews.   \n\n\n\n10:30 Chassidut – Learn about yourself over hot brews & bites.  \n\n\n\n11:00 Tefilla – Prayer & group meditation.  \n\n\n\n12:30 Kiddush Club + Chulent done right \n\n\n\n\n\n\n\n\n\nTo RSVP Email: Rabbisruli@uptownchabad.com
URL:https://uptowncyp.com/event/cyp-shul-lounge-2/2029-09-01/
ATTACH;FMTTYPE=image/jpeg:https://uptowncyp.com/wp-content/uploads/2025/05/Tanya-Class-8-e1746560229890.jpg
END:VEVENT
BEGIN:VEVENT
DTSTART;TZID=America/Toronto:20290908T100000
DTEND;TZID=America/Toronto:20290908T130000
DTSTAMP:20260421T002136
CREATED:20251219T163138Z
LAST-MODIFIED:20251219T205457Z
UID:10002833-1883556000-1883566800@uptowncyp.com
SUMMARY:CYP Shul Lounge
DESCRIPTION:A Reimagined Shul Experience for Young Jews.   \n\n\n\n10:30 Chassidut – Learn about yourself over hot brews & bites.  \n\n\n\n11:00 Tefilla – Prayer & group meditation.  \n\n\n\n12:30 Kiddush Club + Chulent done right \n\n\n\n\n\n\n\n\n\nTo RSVP Email: Rabbisruli@uptownchabad.com
URL:https://uptowncyp.com/event/cyp-shul-lounge-2/2029-09-08/
ATTACH;FMTTYPE=image/jpeg:https://uptowncyp.com/wp-content/uploads/2025/05/Tanya-Class-8-e1746560229890.jpg
END:VEVENT
BEGIN:VEVENT
DTSTART;TZID=America/Toronto:20290915T100000
DTEND;TZID=America/Toronto:20290915T130000
DTSTAMP:20260421T002136
CREATED:20251219T163138Z
LAST-MODIFIED:20251219T205457Z
UID:10002834-1884160800-1884171600@uptowncyp.com
SUMMARY:CYP Shul Lounge
DESCRIPTION:A Reimagined Shul Experience for Young Jews.   \n\n\n\n10:30 Chassidut – Learn about yourself over hot brews & bites.  \n\n\n\n11:00 Tefilla – Prayer & group meditation.  \n\n\n\n12:30 Kiddush Club + Chulent done right \n\n\n\n\n\n\n\n\n\nTo RSVP Email: Rabbisruli@uptownchabad.com
URL:https://uptowncyp.com/event/cyp-shul-lounge-2/2029-09-15/
ATTACH;FMTTYPE=image/jpeg:https://uptowncyp.com/wp-content/uploads/2025/05/Tanya-Class-8-e1746560229890.jpg
END:VEVENT
END:VCALENDAR