BEGIN:VCALENDAR
VERSION:2.0
PRODID:-//Uptown Young Chabad - ECPv6.15.20//NONSGML v1.0//EN
CALSCALE:GREGORIAN
METHOD:PUBLISH
X-ORIGINAL-URL:https://uptowncyp.com
X-WR-CALDESC:Events for Uptown Young Chabad
REFRESH-INTERVAL;VALUE=DURATION:PT1H
X-Robots-Tag:noindex
X-PUBLISHED-TTL:PT1H
BEGIN:VTIMEZONE
TZID:America/Toronto
BEGIN:DAYLIGHT
TZOFFSETFROM:-0500
TZOFFSETTO:-0400
TZNAME:EDT
DTSTART:20290311T070000
END:DAYLIGHT
BEGIN:STANDARD
TZOFFSETFROM:-0400
TZOFFSETTO:-0500
TZNAME:EST
DTSTART:20291104T060000
END:STANDARD
BEGIN:DAYLIGHT
TZOFFSETFROM:-0500
TZOFFSETTO:-0400
TZNAME:EDT
DTSTART:20300310T070000
END:DAYLIGHT
BEGIN:STANDARD
TZOFFSETFROM:-0400
TZOFFSETTO:-0500
TZNAME:EST
DTSTART:20301103T060000
END:STANDARD
BEGIN:DAYLIGHT
TZOFFSETFROM:-0500
TZOFFSETTO:-0400
TZNAME:EDT
DTSTART:20310309T070000
END:DAYLIGHT
BEGIN:STANDARD
TZOFFSETFROM:-0400
TZOFFSETTO:-0500
TZNAME:EST
DTSTART:20311102T060000
END:STANDARD
END:VTIMEZONE
BEGIN:VEVENT
DTSTART;TZID=America/Toronto:20300209T100000
DTEND;TZID=America/Toronto:20300209T130000
DTSTAMP:20260421T081929
CREATED:20251219T163138Z
LAST-MODIFIED:20251219T205457Z
UID:10002855-1896861600-1896872400@uptowncyp.com
SUMMARY:CYP Shul Lounge
DESCRIPTION:A Reimagined Shul Experience for Young Jews.   \n\n\n\n10:30 Chassidut – Learn about yourself over hot brews & bites.  \n\n\n\n11:00 Tefilla – Prayer & group meditation.  \n\n\n\n12:30 Kiddush Club + Chulent done right \n\n\n\n\n\n\n\n\n\nTo RSVP Email: Rabbisruli@uptownchabad.com
URL:https://uptowncyp.com/event/cyp-shul-lounge-2/2030-02-09/
ATTACH;FMTTYPE=image/jpeg:https://uptowncyp.com/wp-content/uploads/2025/05/Tanya-Class-8-e1746560229890.jpg
END:VEVENT
BEGIN:VEVENT
DTSTART;TZID=America/Toronto:20300216T100000
DTEND;TZID=America/Toronto:20300216T130000
DTSTAMP:20260421T081929
CREATED:20251219T163138Z
LAST-MODIFIED:20251219T205457Z
UID:10002856-1897466400-1897477200@uptowncyp.com
SUMMARY:CYP Shul Lounge
DESCRIPTION:A Reimagined Shul Experience for Young Jews.   \n\n\n\n10:30 Chassidut – Learn about yourself over hot brews & bites.  \n\n\n\n11:00 Tefilla – Prayer & group meditation.  \n\n\n\n12:30 Kiddush Club + Chulent done right \n\n\n\n\n\n\n\n\n\nTo RSVP Email: Rabbisruli@uptownchabad.com
URL:https://uptowncyp.com/event/cyp-shul-lounge-2/2030-02-16/
ATTACH;FMTTYPE=image/jpeg:https://uptowncyp.com/wp-content/uploads/2025/05/Tanya-Class-8-e1746560229890.jpg
END:VEVENT
BEGIN:VEVENT
DTSTART;TZID=America/Toronto:20300223T100000
DTEND;TZID=America/Toronto:20300223T130000
DTSTAMP:20260421T081929
CREATED:20251219T163138Z
LAST-MODIFIED:20251219T205457Z
UID:10002857-1898071200-1898082000@uptowncyp.com
SUMMARY:CYP Shul Lounge
DESCRIPTION:A Reimagined Shul Experience for Young Jews.   \n\n\n\n10:30 Chassidut – Learn about yourself over hot brews & bites.  \n\n\n\n11:00 Tefilla – Prayer & group meditation.  \n\n\n\n12:30 Kiddush Club + Chulent done right \n\n\n\n\n\n\n\n\n\nTo RSVP Email: Rabbisruli@uptownchabad.com
URL:https://uptowncyp.com/event/cyp-shul-lounge-2/2030-02-23/
ATTACH;FMTTYPE=image/jpeg:https://uptowncyp.com/wp-content/uploads/2025/05/Tanya-Class-8-e1746560229890.jpg
END:VEVENT
BEGIN:VEVENT
DTSTART;TZID=America/Toronto:20300302T100000
DTEND;TZID=America/Toronto:20300302T130000
DTSTAMP:20260421T081929
CREATED:20251219T163138Z
LAST-MODIFIED:20251219T205457Z
UID:10002858-1898676000-1898686800@uptowncyp.com
SUMMARY:CYP Shul Lounge
DESCRIPTION:A Reimagined Shul Experience for Young Jews.   \n\n\n\n10:30 Chassidut – Learn about yourself over hot brews & bites.  \n\n\n\n11:00 Tefilla – Prayer & group meditation.  \n\n\n\n12:30 Kiddush Club + Chulent done right \n\n\n\n\n\n\n\n\n\nTo RSVP Email: Rabbisruli@uptownchabad.com
URL:https://uptowncyp.com/event/cyp-shul-lounge-2/2030-03-02/
ATTACH;FMTTYPE=image/jpeg:https://uptowncyp.com/wp-content/uploads/2025/05/Tanya-Class-8-e1746560229890.jpg
END:VEVENT
BEGIN:VEVENT
DTSTART;TZID=America/Toronto:20300309T100000
DTEND;TZID=America/Toronto:20300309T130000
DTSTAMP:20260421T081929
CREATED:20251219T163138Z
LAST-MODIFIED:20251219T205457Z
UID:10002859-1899280800-1899291600@uptowncyp.com
SUMMARY:CYP Shul Lounge
DESCRIPTION:A Reimagined Shul Experience for Young Jews.   \n\n\n\n10:30 Chassidut – Learn about yourself over hot brews & bites.  \n\n\n\n11:00 Tefilla – Prayer & group meditation.  \n\n\n\n12:30 Kiddush Club + Chulent done right \n\n\n\n\n\n\n\n\n\nTo RSVP Email: Rabbisruli@uptownchabad.com
URL:https://uptowncyp.com/event/cyp-shul-lounge-2/2030-03-09/
ATTACH;FMTTYPE=image/jpeg:https://uptowncyp.com/wp-content/uploads/2025/05/Tanya-Class-8-e1746560229890.jpg
END:VEVENT
BEGIN:VEVENT
DTSTART;TZID=America/Toronto:20300316T100000
DTEND;TZID=America/Toronto:20300316T130000
DTSTAMP:20260421T081929
CREATED:20251219T163138Z
LAST-MODIFIED:20251219T205457Z
UID:10002860-1899885600-1899896400@uptowncyp.com
SUMMARY:CYP Shul Lounge
DESCRIPTION:A Reimagined Shul Experience for Young Jews.   \n\n\n\n10:30 Chassidut – Learn about yourself over hot brews & bites.  \n\n\n\n11:00 Tefilla – Prayer & group meditation.  \n\n\n\n12:30 Kiddush Club + Chulent done right \n\n\n\n\n\n\n\n\n\nTo RSVP Email: Rabbisruli@uptownchabad.com
URL:https://uptowncyp.com/event/cyp-shul-lounge-2/2030-03-16/
ATTACH;FMTTYPE=image/jpeg:https://uptowncyp.com/wp-content/uploads/2025/05/Tanya-Class-8-e1746560229890.jpg
END:VEVENT
BEGIN:VEVENT
DTSTART;TZID=America/Toronto:20300323T100000
DTEND;TZID=America/Toronto:20300323T130000
DTSTAMP:20260421T081929
CREATED:20251219T163138Z
LAST-MODIFIED:20251219T205457Z
UID:10002861-1900490400-1900501200@uptowncyp.com
SUMMARY:CYP Shul Lounge
DESCRIPTION:A Reimagined Shul Experience for Young Jews.   \n\n\n\n10:30 Chassidut – Learn about yourself over hot brews & bites.  \n\n\n\n11:00 Tefilla – Prayer & group meditation.  \n\n\n\n12:30 Kiddush Club + Chulent done right \n\n\n\n\n\n\n\n\n\nTo RSVP Email: Rabbisruli@uptownchabad.com
URL:https://uptowncyp.com/event/cyp-shul-lounge-2/2030-03-23/
ATTACH;FMTTYPE=image/jpeg:https://uptowncyp.com/wp-content/uploads/2025/05/Tanya-Class-8-e1746560229890.jpg
END:VEVENT
BEGIN:VEVENT
DTSTART;TZID=America/Toronto:20300330T100000
DTEND;TZID=America/Toronto:20300330T130000
DTSTAMP:20260421T081929
CREATED:20251219T163138Z
LAST-MODIFIED:20251219T205457Z
UID:10002862-1901095200-1901106000@uptowncyp.com
SUMMARY:CYP Shul Lounge
DESCRIPTION:A Reimagined Shul Experience for Young Jews.   \n\n\n\n10:30 Chassidut – Learn about yourself over hot brews & bites.  \n\n\n\n11:00 Tefilla – Prayer & group meditation.  \n\n\n\n12:30 Kiddush Club + Chulent done right \n\n\n\n\n\n\n\n\n\nTo RSVP Email: Rabbisruli@uptownchabad.com
URL:https://uptowncyp.com/event/cyp-shul-lounge-2/2030-03-30/
ATTACH;FMTTYPE=image/jpeg:https://uptowncyp.com/wp-content/uploads/2025/05/Tanya-Class-8-e1746560229890.jpg
END:VEVENT
BEGIN:VEVENT
DTSTART;TZID=America/Toronto:20300406T100000
DTEND;TZID=America/Toronto:20300406T130000
DTSTAMP:20260421T081929
CREATED:20251219T163138Z
LAST-MODIFIED:20251219T205457Z
UID:10002863-1901700000-1901710800@uptowncyp.com
SUMMARY:CYP Shul Lounge
DESCRIPTION:A Reimagined Shul Experience for Young Jews.   \n\n\n\n10:30 Chassidut – Learn about yourself over hot brews & bites.  \n\n\n\n11:00 Tefilla – Prayer & group meditation.  \n\n\n\n12:30 Kiddush Club + Chulent done right \n\n\n\n\n\n\n\n\n\nTo RSVP Email: Rabbisruli@uptownchabad.com
URL:https://uptowncyp.com/event/cyp-shul-lounge-2/2030-04-06/
ATTACH;FMTTYPE=image/jpeg:https://uptowncyp.com/wp-content/uploads/2025/05/Tanya-Class-8-e1746560229890.jpg
END:VEVENT
BEGIN:VEVENT
DTSTART;TZID=America/Toronto:20300413T100000
DTEND;TZID=America/Toronto:20300413T130000
DTSTAMP:20260421T081929
CREATED:20251219T163138Z
LAST-MODIFIED:20251219T205457Z
UID:10002864-1902304800-1902315600@uptowncyp.com
SUMMARY:CYP Shul Lounge
DESCRIPTION:A Reimagined Shul Experience for Young Jews.   \n\n\n\n10:30 Chassidut – Learn about yourself over hot brews & bites.  \n\n\n\n11:00 Tefilla – Prayer & group meditation.  \n\n\n\n12:30 Kiddush Club + Chulent done right \n\n\n\n\n\n\n\n\n\nTo RSVP Email: Rabbisruli@uptownchabad.com
URL:https://uptowncyp.com/event/cyp-shul-lounge-2/2030-04-13/
ATTACH;FMTTYPE=image/jpeg:https://uptowncyp.com/wp-content/uploads/2025/05/Tanya-Class-8-e1746560229890.jpg
END:VEVENT
BEGIN:VEVENT
DTSTART;TZID=America/Toronto:20300420T100000
DTEND;TZID=America/Toronto:20300420T130000
DTSTAMP:20260421T081929
CREATED:20251219T163138Z
LAST-MODIFIED:20251219T205457Z
UID:10002865-1902909600-1902920400@uptowncyp.com
SUMMARY:CYP Shul Lounge
DESCRIPTION:A Reimagined Shul Experience for Young Jews.   \n\n\n\n10:30 Chassidut – Learn about yourself over hot brews & bites.  \n\n\n\n11:00 Tefilla – Prayer & group meditation.  \n\n\n\n12:30 Kiddush Club + Chulent done right \n\n\n\n\n\n\n\n\n\nTo RSVP Email: Rabbisruli@uptownchabad.com
URL:https://uptowncyp.com/event/cyp-shul-lounge-2/2030-04-20/
ATTACH;FMTTYPE=image/jpeg:https://uptowncyp.com/wp-content/uploads/2025/05/Tanya-Class-8-e1746560229890.jpg
END:VEVENT
BEGIN:VEVENT
DTSTART;TZID=America/Toronto:20300427T100000
DTEND;TZID=America/Toronto:20300427T130000
DTSTAMP:20260421T081929
CREATED:20251219T163138Z
LAST-MODIFIED:20251219T205457Z
UID:10002866-1903514400-1903525200@uptowncyp.com
SUMMARY:CYP Shul Lounge
DESCRIPTION:A Reimagined Shul Experience for Young Jews.   \n\n\n\n10:30 Chassidut – Learn about yourself over hot brews & bites.  \n\n\n\n11:00 Tefilla – Prayer & group meditation.  \n\n\n\n12:30 Kiddush Club + Chulent done right \n\n\n\n\n\n\n\n\n\nTo RSVP Email: Rabbisruli@uptownchabad.com
URL:https://uptowncyp.com/event/cyp-shul-lounge-2/2030-04-27/
ATTACH;FMTTYPE=image/jpeg:https://uptowncyp.com/wp-content/uploads/2025/05/Tanya-Class-8-e1746560229890.jpg
END:VEVENT
BEGIN:VEVENT
DTSTART;TZID=America/Toronto:20300504T100000
DTEND;TZID=America/Toronto:20300504T130000
DTSTAMP:20260421T081929
CREATED:20251219T163138Z
LAST-MODIFIED:20251219T205457Z
UID:10002867-1904119200-1904130000@uptowncyp.com
SUMMARY:CYP Shul Lounge
DESCRIPTION:A Reimagined Shul Experience for Young Jews.   \n\n\n\n10:30 Chassidut – Learn about yourself over hot brews & bites.  \n\n\n\n11:00 Tefilla – Prayer & group meditation.  \n\n\n\n12:30 Kiddush Club + Chulent done right \n\n\n\n\n\n\n\n\n\nTo RSVP Email: Rabbisruli@uptownchabad.com
URL:https://uptowncyp.com/event/cyp-shul-lounge-2/2030-05-04/
ATTACH;FMTTYPE=image/jpeg:https://uptowncyp.com/wp-content/uploads/2025/05/Tanya-Class-8-e1746560229890.jpg
END:VEVENT
BEGIN:VEVENT
DTSTART;TZID=America/Toronto:20300511T100000
DTEND;TZID=America/Toronto:20300511T130000
DTSTAMP:20260421T081929
CREATED:20251219T163138Z
LAST-MODIFIED:20251219T205457Z
UID:10002868-1904724000-1904734800@uptowncyp.com
SUMMARY:CYP Shul Lounge
DESCRIPTION:A Reimagined Shul Experience for Young Jews.   \n\n\n\n10:30 Chassidut – Learn about yourself over hot brews & bites.  \n\n\n\n11:00 Tefilla – Prayer & group meditation.  \n\n\n\n12:30 Kiddush Club + Chulent done right \n\n\n\n\n\n\n\n\n\nTo RSVP Email: Rabbisruli@uptownchabad.com
URL:https://uptowncyp.com/event/cyp-shul-lounge-2/2030-05-11/
ATTACH;FMTTYPE=image/jpeg:https://uptowncyp.com/wp-content/uploads/2025/05/Tanya-Class-8-e1746560229890.jpg
END:VEVENT
BEGIN:VEVENT
DTSTART;TZID=America/Toronto:20300518T100000
DTEND;TZID=America/Toronto:20300518T130000
DTSTAMP:20260421T081929
CREATED:20251219T163138Z
LAST-MODIFIED:20251219T205457Z
UID:10002869-1905328800-1905339600@uptowncyp.com
SUMMARY:CYP Shul Lounge
DESCRIPTION:A Reimagined Shul Experience for Young Jews.   \n\n\n\n10:30 Chassidut – Learn about yourself over hot brews & bites.  \n\n\n\n11:00 Tefilla – Prayer & group meditation.  \n\n\n\n12:30 Kiddush Club + Chulent done right \n\n\n\n\n\n\n\n\n\nTo RSVP Email: Rabbisruli@uptownchabad.com
URL:https://uptowncyp.com/event/cyp-shul-lounge-2/2030-05-18/
ATTACH;FMTTYPE=image/jpeg:https://uptowncyp.com/wp-content/uploads/2025/05/Tanya-Class-8-e1746560229890.jpg
END:VEVENT
BEGIN:VEVENT
DTSTART;TZID=America/Toronto:20300525T100000
DTEND;TZID=America/Toronto:20300525T130000
DTSTAMP:20260421T081929
CREATED:20251219T163138Z
LAST-MODIFIED:20251219T205457Z
UID:10002870-1905933600-1905944400@uptowncyp.com
SUMMARY:CYP Shul Lounge
DESCRIPTION:A Reimagined Shul Experience for Young Jews.   \n\n\n\n10:30 Chassidut – Learn about yourself over hot brews & bites.  \n\n\n\n11:00 Tefilla – Prayer & group meditation.  \n\n\n\n12:30 Kiddush Club + Chulent done right \n\n\n\n\n\n\n\n\n\nTo RSVP Email: Rabbisruli@uptownchabad.com
URL:https://uptowncyp.com/event/cyp-shul-lounge-2/2030-05-25/
ATTACH;FMTTYPE=image/jpeg:https://uptowncyp.com/wp-content/uploads/2025/05/Tanya-Class-8-e1746560229890.jpg
END:VEVENT
BEGIN:VEVENT
DTSTART;TZID=America/Toronto:20300601T100000
DTEND;TZID=America/Toronto:20300601T130000
DTSTAMP:20260421T081929
CREATED:20251219T163138Z
LAST-MODIFIED:20251219T205457Z
UID:10002871-1906538400-1906549200@uptowncyp.com
SUMMARY:CYP Shul Lounge
DESCRIPTION:A Reimagined Shul Experience for Young Jews.   \n\n\n\n10:30 Chassidut – Learn about yourself over hot brews & bites.  \n\n\n\n11:00 Tefilla – Prayer & group meditation.  \n\n\n\n12:30 Kiddush Club + Chulent done right \n\n\n\n\n\n\n\n\n\nTo RSVP Email: Rabbisruli@uptownchabad.com
URL:https://uptowncyp.com/event/cyp-shul-lounge-2/2030-06-01/
ATTACH;FMTTYPE=image/jpeg:https://uptowncyp.com/wp-content/uploads/2025/05/Tanya-Class-8-e1746560229890.jpg
END:VEVENT
BEGIN:VEVENT
DTSTART;TZID=America/Toronto:20300608T100000
DTEND;TZID=America/Toronto:20300608T130000
DTSTAMP:20260421T081929
CREATED:20251219T163138Z
LAST-MODIFIED:20251219T205457Z
UID:10002872-1907143200-1907154000@uptowncyp.com
SUMMARY:CYP Shul Lounge
DESCRIPTION:A Reimagined Shul Experience for Young Jews.   \n\n\n\n10:30 Chassidut – Learn about yourself over hot brews & bites.  \n\n\n\n11:00 Tefilla – Prayer & group meditation.  \n\n\n\n12:30 Kiddush Club + Chulent done right \n\n\n\n\n\n\n\n\n\nTo RSVP Email: Rabbisruli@uptownchabad.com
URL:https://uptowncyp.com/event/cyp-shul-lounge-2/2030-06-08/
ATTACH;FMTTYPE=image/jpeg:https://uptowncyp.com/wp-content/uploads/2025/05/Tanya-Class-8-e1746560229890.jpg
END:VEVENT
BEGIN:VEVENT
DTSTART;TZID=America/Toronto:20300615T100000
DTEND;TZID=America/Toronto:20300615T130000
DTSTAMP:20260421T081929
CREATED:20251219T163138Z
LAST-MODIFIED:20251219T205457Z
UID:10002873-1907748000-1907758800@uptowncyp.com
SUMMARY:CYP Shul Lounge
DESCRIPTION:A Reimagined Shul Experience for Young Jews.   \n\n\n\n10:30 Chassidut – Learn about yourself over hot brews & bites.  \n\n\n\n11:00 Tefilla – Prayer & group meditation.  \n\n\n\n12:30 Kiddush Club + Chulent done right \n\n\n\n\n\n\n\n\n\nTo RSVP Email: Rabbisruli@uptownchabad.com
URL:https://uptowncyp.com/event/cyp-shul-lounge-2/2030-06-15/
ATTACH;FMTTYPE=image/jpeg:https://uptowncyp.com/wp-content/uploads/2025/05/Tanya-Class-8-e1746560229890.jpg
END:VEVENT
BEGIN:VEVENT
DTSTART;TZID=America/Toronto:20300622T100000
DTEND;TZID=America/Toronto:20300622T130000
DTSTAMP:20260421T081929
CREATED:20251219T163138Z
LAST-MODIFIED:20251219T205457Z
UID:10002874-1908352800-1908363600@uptowncyp.com
SUMMARY:CYP Shul Lounge
DESCRIPTION:A Reimagined Shul Experience for Young Jews.   \n\n\n\n10:30 Chassidut – Learn about yourself over hot brews & bites.  \n\n\n\n11:00 Tefilla – Prayer & group meditation.  \n\n\n\n12:30 Kiddush Club + Chulent done right \n\n\n\n\n\n\n\n\n\nTo RSVP Email: Rabbisruli@uptownchabad.com
URL:https://uptowncyp.com/event/cyp-shul-lounge-2/2030-06-22/
ATTACH;FMTTYPE=image/jpeg:https://uptowncyp.com/wp-content/uploads/2025/05/Tanya-Class-8-e1746560229890.jpg
END:VEVENT
BEGIN:VEVENT
DTSTART;TZID=America/Toronto:20300629T100000
DTEND;TZID=America/Toronto:20300629T130000
DTSTAMP:20260421T081929
CREATED:20251219T163138Z
LAST-MODIFIED:20251219T205457Z
UID:10002875-1908957600-1908968400@uptowncyp.com
SUMMARY:CYP Shul Lounge
DESCRIPTION:A Reimagined Shul Experience for Young Jews.   \n\n\n\n10:30 Chassidut – Learn about yourself over hot brews & bites.  \n\n\n\n11:00 Tefilla – Prayer & group meditation.  \n\n\n\n12:30 Kiddush Club + Chulent done right \n\n\n\n\n\n\n\n\n\nTo RSVP Email: Rabbisruli@uptownchabad.com
URL:https://uptowncyp.com/event/cyp-shul-lounge-2/2030-06-29/
ATTACH;FMTTYPE=image/jpeg:https://uptowncyp.com/wp-content/uploads/2025/05/Tanya-Class-8-e1746560229890.jpg
END:VEVENT
BEGIN:VEVENT
DTSTART;TZID=America/Toronto:20300706T100000
DTEND;TZID=America/Toronto:20300706T130000
DTSTAMP:20260421T081929
CREATED:20251219T163138Z
LAST-MODIFIED:20251219T205457Z
UID:10002876-1909562400-1909573200@uptowncyp.com
SUMMARY:CYP Shul Lounge
DESCRIPTION:A Reimagined Shul Experience for Young Jews.   \n\n\n\n10:30 Chassidut – Learn about yourself over hot brews & bites.  \n\n\n\n11:00 Tefilla – Prayer & group meditation.  \n\n\n\n12:30 Kiddush Club + Chulent done right \n\n\n\n\n\n\n\n\n\nTo RSVP Email: Rabbisruli@uptownchabad.com
URL:https://uptowncyp.com/event/cyp-shul-lounge-2/2030-07-06/
ATTACH;FMTTYPE=image/jpeg:https://uptowncyp.com/wp-content/uploads/2025/05/Tanya-Class-8-e1746560229890.jpg
END:VEVENT
BEGIN:VEVENT
DTSTART;TZID=America/Toronto:20300713T100000
DTEND;TZID=America/Toronto:20300713T130000
DTSTAMP:20260421T081929
CREATED:20251219T163138Z
LAST-MODIFIED:20251219T205457Z
UID:10002877-1910167200-1910178000@uptowncyp.com
SUMMARY:CYP Shul Lounge
DESCRIPTION:A Reimagined Shul Experience for Young Jews.   \n\n\n\n10:30 Chassidut – Learn about yourself over hot brews & bites.  \n\n\n\n11:00 Tefilla – Prayer & group meditation.  \n\n\n\n12:30 Kiddush Club + Chulent done right \n\n\n\n\n\n\n\n\n\nTo RSVP Email: Rabbisruli@uptownchabad.com
URL:https://uptowncyp.com/event/cyp-shul-lounge-2/2030-07-13/
ATTACH;FMTTYPE=image/jpeg:https://uptowncyp.com/wp-content/uploads/2025/05/Tanya-Class-8-e1746560229890.jpg
END:VEVENT
BEGIN:VEVENT
DTSTART;TZID=America/Toronto:20300720T100000
DTEND;TZID=America/Toronto:20300720T130000
DTSTAMP:20260421T081929
CREATED:20251219T163138Z
LAST-MODIFIED:20251219T205457Z
UID:10002878-1910772000-1910782800@uptowncyp.com
SUMMARY:CYP Shul Lounge
DESCRIPTION:A Reimagined Shul Experience for Young Jews.   \n\n\n\n10:30 Chassidut – Learn about yourself over hot brews & bites.  \n\n\n\n11:00 Tefilla – Prayer & group meditation.  \n\n\n\n12:30 Kiddush Club + Chulent done right \n\n\n\n\n\n\n\n\n\nTo RSVP Email: Rabbisruli@uptownchabad.com
URL:https://uptowncyp.com/event/cyp-shul-lounge-2/2030-07-20/
ATTACH;FMTTYPE=image/jpeg:https://uptowncyp.com/wp-content/uploads/2025/05/Tanya-Class-8-e1746560229890.jpg
END:VEVENT
BEGIN:VEVENT
DTSTART;TZID=America/Toronto:20300727T100000
DTEND;TZID=America/Toronto:20300727T130000
DTSTAMP:20260421T081929
CREATED:20251219T163138Z
LAST-MODIFIED:20251219T205457Z
UID:10002879-1911376800-1911387600@uptowncyp.com
SUMMARY:CYP Shul Lounge
DESCRIPTION:A Reimagined Shul Experience for Young Jews.   \n\n\n\n10:30 Chassidut – Learn about yourself over hot brews & bites.  \n\n\n\n11:00 Tefilla – Prayer & group meditation.  \n\n\n\n12:30 Kiddush Club + Chulent done right \n\n\n\n\n\n\n\n\n\nTo RSVP Email: Rabbisruli@uptownchabad.com
URL:https://uptowncyp.com/event/cyp-shul-lounge-2/2030-07-27/
ATTACH;FMTTYPE=image/jpeg:https://uptowncyp.com/wp-content/uploads/2025/05/Tanya-Class-8-e1746560229890.jpg
END:VEVENT
BEGIN:VEVENT
DTSTART;TZID=America/Toronto:20300803T100000
DTEND;TZID=America/Toronto:20300803T130000
DTSTAMP:20260421T081929
CREATED:20251219T163138Z
LAST-MODIFIED:20251219T205457Z
UID:10002880-1911981600-1911992400@uptowncyp.com
SUMMARY:CYP Shul Lounge
DESCRIPTION:A Reimagined Shul Experience for Young Jews.   \n\n\n\n10:30 Chassidut – Learn about yourself over hot brews & bites.  \n\n\n\n11:00 Tefilla – Prayer & group meditation.  \n\n\n\n12:30 Kiddush Club + Chulent done right \n\n\n\n\n\n\n\n\n\nTo RSVP Email: Rabbisruli@uptownchabad.com
URL:https://uptowncyp.com/event/cyp-shul-lounge-2/2030-08-03/
ATTACH;FMTTYPE=image/jpeg:https://uptowncyp.com/wp-content/uploads/2025/05/Tanya-Class-8-e1746560229890.jpg
END:VEVENT
BEGIN:VEVENT
DTSTART;TZID=America/Toronto:20300810T100000
DTEND;TZID=America/Toronto:20300810T130000
DTSTAMP:20260421T081929
CREATED:20251219T163138Z
LAST-MODIFIED:20251219T205457Z
UID:10002881-1912586400-1912597200@uptowncyp.com
SUMMARY:CYP Shul Lounge
DESCRIPTION:A Reimagined Shul Experience for Young Jews.   \n\n\n\n10:30 Chassidut – Learn about yourself over hot brews & bites.  \n\n\n\n11:00 Tefilla – Prayer & group meditation.  \n\n\n\n12:30 Kiddush Club + Chulent done right \n\n\n\n\n\n\n\n\n\nTo RSVP Email: Rabbisruli@uptownchabad.com
URL:https://uptowncyp.com/event/cyp-shul-lounge-2/2030-08-10/
ATTACH;FMTTYPE=image/jpeg:https://uptowncyp.com/wp-content/uploads/2025/05/Tanya-Class-8-e1746560229890.jpg
END:VEVENT
BEGIN:VEVENT
DTSTART;TZID=America/Toronto:20300817T100000
DTEND;TZID=America/Toronto:20300817T130000
DTSTAMP:20260421T081929
CREATED:20251219T163138Z
LAST-MODIFIED:20251219T205457Z
UID:10002882-1913191200-1913202000@uptowncyp.com
SUMMARY:CYP Shul Lounge
DESCRIPTION:A Reimagined Shul Experience for Young Jews.   \n\n\n\n10:30 Chassidut – Learn about yourself over hot brews & bites.  \n\n\n\n11:00 Tefilla – Prayer & group meditation.  \n\n\n\n12:30 Kiddush Club + Chulent done right \n\n\n\n\n\n\n\n\n\nTo RSVP Email: Rabbisruli@uptownchabad.com
URL:https://uptowncyp.com/event/cyp-shul-lounge-2/2030-08-17/
ATTACH;FMTTYPE=image/jpeg:https://uptowncyp.com/wp-content/uploads/2025/05/Tanya-Class-8-e1746560229890.jpg
END:VEVENT
BEGIN:VEVENT
DTSTART;TZID=America/Toronto:20300824T100000
DTEND;TZID=America/Toronto:20300824T130000
DTSTAMP:20260421T081929
CREATED:20251219T163138Z
LAST-MODIFIED:20251219T205457Z
UID:10002883-1913796000-1913806800@uptowncyp.com
SUMMARY:CYP Shul Lounge
DESCRIPTION:A Reimagined Shul Experience for Young Jews.   \n\n\n\n10:30 Chassidut – Learn about yourself over hot brews & bites.  \n\n\n\n11:00 Tefilla – Prayer & group meditation.  \n\n\n\n12:30 Kiddush Club + Chulent done right \n\n\n\n\n\n\n\n\n\nTo RSVP Email: Rabbisruli@uptownchabad.com
URL:https://uptowncyp.com/event/cyp-shul-lounge-2/2030-08-24/
ATTACH;FMTTYPE=image/jpeg:https://uptowncyp.com/wp-content/uploads/2025/05/Tanya-Class-8-e1746560229890.jpg
END:VEVENT
BEGIN:VEVENT
DTSTART;TZID=America/Toronto:20300831T100000
DTEND;TZID=America/Toronto:20300831T130000
DTSTAMP:20260421T081929
CREATED:20251219T163138Z
LAST-MODIFIED:20251219T205457Z
UID:10002884-1914400800-1914411600@uptowncyp.com
SUMMARY:CYP Shul Lounge
DESCRIPTION:A Reimagined Shul Experience for Young Jews.   \n\n\n\n10:30 Chassidut – Learn about yourself over hot brews & bites.  \n\n\n\n11:00 Tefilla – Prayer & group meditation.  \n\n\n\n12:30 Kiddush Club + Chulent done right \n\n\n\n\n\n\n\n\n\nTo RSVP Email: Rabbisruli@uptownchabad.com
URL:https://uptowncyp.com/event/cyp-shul-lounge-2/2030-08-31/
ATTACH;FMTTYPE=image/jpeg:https://uptowncyp.com/wp-content/uploads/2025/05/Tanya-Class-8-e1746560229890.jpg
END:VEVENT
END:VCALENDAR