BEGIN:VCALENDAR
VERSION:2.0
PRODID:-//Uptown Young Chabad - ECPv6.15.20//NONSGML v1.0//EN
CALSCALE:GREGORIAN
METHOD:PUBLISH
X-ORIGINAL-URL:https://uptowncyp.com
X-WR-CALDESC:Events for Uptown Young Chabad
REFRESH-INTERVAL;VALUE=DURATION:PT1H
X-Robots-Tag:noindex
X-PUBLISHED-TTL:PT1H
BEGIN:VTIMEZONE
TZID:America/Toronto
BEGIN:DAYLIGHT
TZOFFSETFROM:-0500
TZOFFSETTO:-0400
TZNAME:EDT
DTSTART:20290311T070000
END:DAYLIGHT
BEGIN:STANDARD
TZOFFSETFROM:-0400
TZOFFSETTO:-0500
TZNAME:EST
DTSTART:20291104T060000
END:STANDARD
BEGIN:DAYLIGHT
TZOFFSETFROM:-0500
TZOFFSETTO:-0400
TZNAME:EDT
DTSTART:20300310T070000
END:DAYLIGHT
BEGIN:STANDARD
TZOFFSETFROM:-0400
TZOFFSETTO:-0500
TZNAME:EST
DTSTART:20301103T060000
END:STANDARD
BEGIN:DAYLIGHT
TZOFFSETFROM:-0500
TZOFFSETTO:-0400
TZNAME:EDT
DTSTART:20310309T070000
END:DAYLIGHT
BEGIN:STANDARD
TZOFFSETFROM:-0400
TZOFFSETTO:-0500
TZNAME:EST
DTSTART:20311102T060000
END:STANDARD
END:VTIMEZONE
BEGIN:VEVENT
DTSTART;TZID=America/Toronto:20300907T100000
DTEND;TZID=America/Toronto:20300907T130000
DTSTAMP:20260421T133740
CREATED:20251219T163138Z
LAST-MODIFIED:20251219T205457Z
UID:10002885-1915005600-1915016400@uptowncyp.com
SUMMARY:CYP Shul Lounge
DESCRIPTION:A Reimagined Shul Experience for Young Jews.   \n\n\n\n10:30 Chassidut – Learn about yourself over hot brews & bites.  \n\n\n\n11:00 Tefilla – Prayer & group meditation.  \n\n\n\n12:30 Kiddush Club + Chulent done right \n\n\n\n\n\n\n\n\n\nTo RSVP Email: Rabbisruli@uptownchabad.com
URL:https://uptowncyp.com/event/cyp-shul-lounge-2/2030-09-07/
ATTACH;FMTTYPE=image/jpeg:https://uptowncyp.com/wp-content/uploads/2025/05/Tanya-Class-8-e1746560229890.jpg
END:VEVENT
BEGIN:VEVENT
DTSTART;TZID=America/Toronto:20300914T100000
DTEND;TZID=America/Toronto:20300914T130000
DTSTAMP:20260421T133740
CREATED:20251219T163138Z
LAST-MODIFIED:20251219T205457Z
UID:10002886-1915610400-1915621200@uptowncyp.com
SUMMARY:CYP Shul Lounge
DESCRIPTION:A Reimagined Shul Experience for Young Jews.   \n\n\n\n10:30 Chassidut – Learn about yourself over hot brews & bites.  \n\n\n\n11:00 Tefilla – Prayer & group meditation.  \n\n\n\n12:30 Kiddush Club + Chulent done right \n\n\n\n\n\n\n\n\n\nTo RSVP Email: Rabbisruli@uptownchabad.com
URL:https://uptowncyp.com/event/cyp-shul-lounge-2/2030-09-14/
ATTACH;FMTTYPE=image/jpeg:https://uptowncyp.com/wp-content/uploads/2025/05/Tanya-Class-8-e1746560229890.jpg
END:VEVENT
BEGIN:VEVENT
DTSTART;TZID=America/Toronto:20300921T100000
DTEND;TZID=America/Toronto:20300921T130000
DTSTAMP:20260421T133740
CREATED:20251219T163138Z
LAST-MODIFIED:20251219T205457Z
UID:10002887-1916215200-1916226000@uptowncyp.com
SUMMARY:CYP Shul Lounge
DESCRIPTION:A Reimagined Shul Experience for Young Jews.   \n\n\n\n10:30 Chassidut – Learn about yourself over hot brews & bites.  \n\n\n\n11:00 Tefilla – Prayer & group meditation.  \n\n\n\n12:30 Kiddush Club + Chulent done right \n\n\n\n\n\n\n\n\n\nTo RSVP Email: Rabbisruli@uptownchabad.com
URL:https://uptowncyp.com/event/cyp-shul-lounge-2/2030-09-21/
ATTACH;FMTTYPE=image/jpeg:https://uptowncyp.com/wp-content/uploads/2025/05/Tanya-Class-8-e1746560229890.jpg
END:VEVENT
BEGIN:VEVENT
DTSTART;TZID=America/Toronto:20300928T100000
DTEND;TZID=America/Toronto:20300928T130000
DTSTAMP:20260421T133740
CREATED:20251219T163138Z
LAST-MODIFIED:20251219T205457Z
UID:10002888-1916820000-1916830800@uptowncyp.com
SUMMARY:CYP Shul Lounge
DESCRIPTION:A Reimagined Shul Experience for Young Jews.   \n\n\n\n10:30 Chassidut – Learn about yourself over hot brews & bites.  \n\n\n\n11:00 Tefilla – Prayer & group meditation.  \n\n\n\n12:30 Kiddush Club + Chulent done right \n\n\n\n\n\n\n\n\n\nTo RSVP Email: Rabbisruli@uptownchabad.com
URL:https://uptowncyp.com/event/cyp-shul-lounge-2/2030-09-28/
ATTACH;FMTTYPE=image/jpeg:https://uptowncyp.com/wp-content/uploads/2025/05/Tanya-Class-8-e1746560229890.jpg
END:VEVENT
BEGIN:VEVENT
DTSTART;TZID=America/Toronto:20301005T100000
DTEND;TZID=America/Toronto:20301005T130000
DTSTAMP:20260421T133740
CREATED:20251219T163138Z
LAST-MODIFIED:20251219T205457Z
UID:10002889-1917424800-1917435600@uptowncyp.com
SUMMARY:CYP Shul Lounge
DESCRIPTION:A Reimagined Shul Experience for Young Jews.   \n\n\n\n10:30 Chassidut – Learn about yourself over hot brews & bites.  \n\n\n\n11:00 Tefilla – Prayer & group meditation.  \n\n\n\n12:30 Kiddush Club + Chulent done right \n\n\n\n\n\n\n\n\n\nTo RSVP Email: Rabbisruli@uptownchabad.com
URL:https://uptowncyp.com/event/cyp-shul-lounge-2/2030-10-05/
ATTACH;FMTTYPE=image/jpeg:https://uptowncyp.com/wp-content/uploads/2025/05/Tanya-Class-8-e1746560229890.jpg
END:VEVENT
BEGIN:VEVENT
DTSTART;TZID=America/Toronto:20301012T100000
DTEND;TZID=America/Toronto:20301012T130000
DTSTAMP:20260421T133740
CREATED:20251219T163138Z
LAST-MODIFIED:20251219T205457Z
UID:10002890-1918029600-1918040400@uptowncyp.com
SUMMARY:CYP Shul Lounge
DESCRIPTION:A Reimagined Shul Experience for Young Jews.   \n\n\n\n10:30 Chassidut – Learn about yourself over hot brews & bites.  \n\n\n\n11:00 Tefilla – Prayer & group meditation.  \n\n\n\n12:30 Kiddush Club + Chulent done right \n\n\n\n\n\n\n\n\n\nTo RSVP Email: Rabbisruli@uptownchabad.com
URL:https://uptowncyp.com/event/cyp-shul-lounge-2/2030-10-12/
ATTACH;FMTTYPE=image/jpeg:https://uptowncyp.com/wp-content/uploads/2025/05/Tanya-Class-8-e1746560229890.jpg
END:VEVENT
BEGIN:VEVENT
DTSTART;TZID=America/Toronto:20301019T100000
DTEND;TZID=America/Toronto:20301019T130000
DTSTAMP:20260421T133740
CREATED:20251219T163138Z
LAST-MODIFIED:20251219T205457Z
UID:10002891-1918634400-1918645200@uptowncyp.com
SUMMARY:CYP Shul Lounge
DESCRIPTION:A Reimagined Shul Experience for Young Jews.   \n\n\n\n10:30 Chassidut – Learn about yourself over hot brews & bites.  \n\n\n\n11:00 Tefilla – Prayer & group meditation.  \n\n\n\n12:30 Kiddush Club + Chulent done right \n\n\n\n\n\n\n\n\n\nTo RSVP Email: Rabbisruli@uptownchabad.com
URL:https://uptowncyp.com/event/cyp-shul-lounge-2/2030-10-19/
ATTACH;FMTTYPE=image/jpeg:https://uptowncyp.com/wp-content/uploads/2025/05/Tanya-Class-8-e1746560229890.jpg
END:VEVENT
BEGIN:VEVENT
DTSTART;TZID=America/Toronto:20301026T100000
DTEND;TZID=America/Toronto:20301026T130000
DTSTAMP:20260421T133740
CREATED:20251219T163138Z
LAST-MODIFIED:20251219T205457Z
UID:10002892-1919239200-1919250000@uptowncyp.com
SUMMARY:CYP Shul Lounge
DESCRIPTION:A Reimagined Shul Experience for Young Jews.   \n\n\n\n10:30 Chassidut – Learn about yourself over hot brews & bites.  \n\n\n\n11:00 Tefilla – Prayer & group meditation.  \n\n\n\n12:30 Kiddush Club + Chulent done right \n\n\n\n\n\n\n\n\n\nTo RSVP Email: Rabbisruli@uptownchabad.com
URL:https://uptowncyp.com/event/cyp-shul-lounge-2/2030-10-26/
ATTACH;FMTTYPE=image/jpeg:https://uptowncyp.com/wp-content/uploads/2025/05/Tanya-Class-8-e1746560229890.jpg
END:VEVENT
BEGIN:VEVENT
DTSTART;TZID=America/Toronto:20301102T100000
DTEND;TZID=America/Toronto:20301102T130000
DTSTAMP:20260421T133740
CREATED:20251219T163138Z
LAST-MODIFIED:20251219T205457Z
UID:10002893-1919844000-1919854800@uptowncyp.com
SUMMARY:CYP Shul Lounge
DESCRIPTION:A Reimagined Shul Experience for Young Jews.   \n\n\n\n10:30 Chassidut – Learn about yourself over hot brews & bites.  \n\n\n\n11:00 Tefilla – Prayer & group meditation.  \n\n\n\n12:30 Kiddush Club + Chulent done right \n\n\n\n\n\n\n\n\n\nTo RSVP Email: Rabbisruli@uptownchabad.com
URL:https://uptowncyp.com/event/cyp-shul-lounge-2/2030-11-02/
ATTACH;FMTTYPE=image/jpeg:https://uptowncyp.com/wp-content/uploads/2025/05/Tanya-Class-8-e1746560229890.jpg
END:VEVENT
BEGIN:VEVENT
DTSTART;TZID=America/Toronto:20301109T100000
DTEND;TZID=America/Toronto:20301109T130000
DTSTAMP:20260421T133740
CREATED:20251219T163138Z
LAST-MODIFIED:20251219T205457Z
UID:10002894-1920448800-1920459600@uptowncyp.com
SUMMARY:CYP Shul Lounge
DESCRIPTION:A Reimagined Shul Experience for Young Jews.   \n\n\n\n10:30 Chassidut – Learn about yourself over hot brews & bites.  \n\n\n\n11:00 Tefilla – Prayer & group meditation.  \n\n\n\n12:30 Kiddush Club + Chulent done right \n\n\n\n\n\n\n\n\n\nTo RSVP Email: Rabbisruli@uptownchabad.com
URL:https://uptowncyp.com/event/cyp-shul-lounge-2/2030-11-09/
ATTACH;FMTTYPE=image/jpeg:https://uptowncyp.com/wp-content/uploads/2025/05/Tanya-Class-8-e1746560229890.jpg
END:VEVENT
BEGIN:VEVENT
DTSTART;TZID=America/Toronto:20301116T100000
DTEND;TZID=America/Toronto:20301116T130000
DTSTAMP:20260421T133740
CREATED:20251219T163138Z
LAST-MODIFIED:20251219T205457Z
UID:10002895-1921053600-1921064400@uptowncyp.com
SUMMARY:CYP Shul Lounge
DESCRIPTION:A Reimagined Shul Experience for Young Jews.   \n\n\n\n10:30 Chassidut – Learn about yourself over hot brews & bites.  \n\n\n\n11:00 Tefilla – Prayer & group meditation.  \n\n\n\n12:30 Kiddush Club + Chulent done right \n\n\n\n\n\n\n\n\n\nTo RSVP Email: Rabbisruli@uptownchabad.com
URL:https://uptowncyp.com/event/cyp-shul-lounge-2/2030-11-16/
ATTACH;FMTTYPE=image/jpeg:https://uptowncyp.com/wp-content/uploads/2025/05/Tanya-Class-8-e1746560229890.jpg
END:VEVENT
BEGIN:VEVENT
DTSTART;TZID=America/Toronto:20301123T100000
DTEND;TZID=America/Toronto:20301123T130000
DTSTAMP:20260421T133740
CREATED:20251219T163138Z
LAST-MODIFIED:20251219T205457Z
UID:10002896-1921658400-1921669200@uptowncyp.com
SUMMARY:CYP Shul Lounge
DESCRIPTION:A Reimagined Shul Experience for Young Jews.   \n\n\n\n10:30 Chassidut – Learn about yourself over hot brews & bites.  \n\n\n\n11:00 Tefilla – Prayer & group meditation.  \n\n\n\n12:30 Kiddush Club + Chulent done right \n\n\n\n\n\n\n\n\n\nTo RSVP Email: Rabbisruli@uptownchabad.com
URL:https://uptowncyp.com/event/cyp-shul-lounge-2/2030-11-23/
ATTACH;FMTTYPE=image/jpeg:https://uptowncyp.com/wp-content/uploads/2025/05/Tanya-Class-8-e1746560229890.jpg
END:VEVENT
BEGIN:VEVENT
DTSTART;TZID=America/Toronto:20301130T100000
DTEND;TZID=America/Toronto:20301130T130000
DTSTAMP:20260421T133740
CREATED:20251219T163138Z
LAST-MODIFIED:20251219T205457Z
UID:10002897-1922263200-1922274000@uptowncyp.com
SUMMARY:CYP Shul Lounge
DESCRIPTION:A Reimagined Shul Experience for Young Jews.   \n\n\n\n10:30 Chassidut – Learn about yourself over hot brews & bites.  \n\n\n\n11:00 Tefilla – Prayer & group meditation.  \n\n\n\n12:30 Kiddush Club + Chulent done right \n\n\n\n\n\n\n\n\n\nTo RSVP Email: Rabbisruli@uptownchabad.com
URL:https://uptowncyp.com/event/cyp-shul-lounge-2/2030-11-30/
ATTACH;FMTTYPE=image/jpeg:https://uptowncyp.com/wp-content/uploads/2025/05/Tanya-Class-8-e1746560229890.jpg
END:VEVENT
BEGIN:VEVENT
DTSTART;TZID=America/Toronto:20301207T100000
DTEND;TZID=America/Toronto:20301207T130000
DTSTAMP:20260421T133740
CREATED:20251219T163138Z
LAST-MODIFIED:20251219T205457Z
UID:10002898-1922868000-1922878800@uptowncyp.com
SUMMARY:CYP Shul Lounge
DESCRIPTION:A Reimagined Shul Experience for Young Jews.   \n\n\n\n10:30 Chassidut – Learn about yourself over hot brews & bites.  \n\n\n\n11:00 Tefilla – Prayer & group meditation.  \n\n\n\n12:30 Kiddush Club + Chulent done right \n\n\n\n\n\n\n\n\n\nTo RSVP Email: Rabbisruli@uptownchabad.com
URL:https://uptowncyp.com/event/cyp-shul-lounge-2/2030-12-07/
ATTACH;FMTTYPE=image/jpeg:https://uptowncyp.com/wp-content/uploads/2025/05/Tanya-Class-8-e1746560229890.jpg
END:VEVENT
BEGIN:VEVENT
DTSTART;TZID=America/Toronto:20301214T100000
DTEND;TZID=America/Toronto:20301214T130000
DTSTAMP:20260421T133740
CREATED:20251219T163138Z
LAST-MODIFIED:20251219T205457Z
UID:10002899-1923472800-1923483600@uptowncyp.com
SUMMARY:CYP Shul Lounge
DESCRIPTION:A Reimagined Shul Experience for Young Jews.   \n\n\n\n10:30 Chassidut – Learn about yourself over hot brews & bites.  \n\n\n\n11:00 Tefilla – Prayer & group meditation.  \n\n\n\n12:30 Kiddush Club + Chulent done right \n\n\n\n\n\n\n\n\n\nTo RSVP Email: Rabbisruli@uptownchabad.com
URL:https://uptowncyp.com/event/cyp-shul-lounge-2/2030-12-14/
ATTACH;FMTTYPE=image/jpeg:https://uptowncyp.com/wp-content/uploads/2025/05/Tanya-Class-8-e1746560229890.jpg
END:VEVENT
END:VCALENDAR