BEGIN:VCALENDAR
VERSION:2.0
PRODID:-//Uptown Young Chabad - ECPv6.15.20//NONSGML v1.0//EN
CALSCALE:GREGORIAN
METHOD:PUBLISH
X-WR-CALNAME:Uptown Young Chabad
X-ORIGINAL-URL:https://uptowncyp.com
X-WR-CALDESC:Events for Uptown Young Chabad
REFRESH-INTERVAL;VALUE=DURATION:PT1H
X-Robots-Tag:noindex
X-PUBLISHED-TTL:PT1H
BEGIN:VTIMEZONE
TZID:America/Toronto
BEGIN:DAYLIGHT
TZOFFSETFROM:-0500
TZOFFSETTO:-0400
TZNAME:EDT
DTSTART:20250309T070000
END:DAYLIGHT
BEGIN:STANDARD
TZOFFSETFROM:-0400
TZOFFSETTO:-0500
TZNAME:EST
DTSTART:20251102T060000
END:STANDARD
BEGIN:DAYLIGHT
TZOFFSETFROM:-0500
TZOFFSETTO:-0400
TZNAME:EDT
DTSTART:20260308T070000
END:DAYLIGHT
BEGIN:STANDARD
TZOFFSETFROM:-0400
TZOFFSETTO:-0500
TZNAME:EST
DTSTART:20261101T060000
END:STANDARD
BEGIN:DAYLIGHT
TZOFFSETFROM:-0500
TZOFFSETTO:-0400
TZNAME:EDT
DTSTART:20270314T070000
END:DAYLIGHT
BEGIN:STANDARD
TZOFFSETFROM:-0400
TZOFFSETTO:-0500
TZNAME:EST
DTSTART:20271107T060000
END:STANDARD
BEGIN:DAYLIGHT
TZOFFSETFROM:-0500
TZOFFSETTO:-0400
TZNAME:EDT
DTSTART:20280312T070000
END:DAYLIGHT
BEGIN:STANDARD
TZOFFSETFROM:-0400
TZOFFSETTO:-0500
TZNAME:EST
DTSTART:20281105T060000
END:STANDARD
END:VTIMEZONE
BEGIN:VEVENT
DTSTART;TZID=America/Toronto:20260829T100000
DTEND;TZID=America/Toronto:20260829T130000
DTSTAMP:20260420T061026
CREATED:20251219T163138Z
LAST-MODIFIED:20251219T205457Z
UID:10002675-1787997600-1788008400@uptowncyp.com
SUMMARY:CYP Shul Lounge
DESCRIPTION:A Reimagined Shul Experience for Young Jews.   \n\n\n\n10:30 Chassidut – Learn about yourself over hot brews & bites.  \n\n\n\n11:00 Tefilla – Prayer & group meditation.  \n\n\n\n12:30 Kiddush Club + Chulent done right \n\n\n\n\n\n\n\n\n\nTo RSVP Email: Rabbisruli@uptownchabad.com
URL:https://uptowncyp.com/event/cyp-shul-lounge-2/2026-08-29/
ATTACH;FMTTYPE=image/jpeg:https://uptowncyp.com/wp-content/uploads/2025/05/Tanya-Class-8-e1746560229890.jpg
END:VEVENT
BEGIN:VEVENT
DTSTART;TZID=America/Toronto:20260905T100000
DTEND;TZID=America/Toronto:20260905T130000
DTSTAMP:20260420T061026
CREATED:20251219T163138Z
LAST-MODIFIED:20251219T205457Z
UID:10002676-1788602400-1788613200@uptowncyp.com
SUMMARY:CYP Shul Lounge
DESCRIPTION:A Reimagined Shul Experience for Young Jews.   \n\n\n\n10:30 Chassidut – Learn about yourself over hot brews & bites.  \n\n\n\n11:00 Tefilla – Prayer & group meditation.  \n\n\n\n12:30 Kiddush Club + Chulent done right \n\n\n\n\n\n\n\n\n\nTo RSVP Email: Rabbisruli@uptownchabad.com
URL:https://uptowncyp.com/event/cyp-shul-lounge-2/2026-09-05/
ATTACH;FMTTYPE=image/jpeg:https://uptowncyp.com/wp-content/uploads/2025/05/Tanya-Class-8-e1746560229890.jpg
END:VEVENT
BEGIN:VEVENT
DTSTART;TZID=America/Toronto:20260912T100000
DTEND;TZID=America/Toronto:20260912T130000
DTSTAMP:20260420T061026
CREATED:20251219T163138Z
LAST-MODIFIED:20251219T205457Z
UID:10002677-1789207200-1789218000@uptowncyp.com
SUMMARY:CYP Shul Lounge
DESCRIPTION:A Reimagined Shul Experience for Young Jews.   \n\n\n\n10:30 Chassidut – Learn about yourself over hot brews & bites.  \n\n\n\n11:00 Tefilla – Prayer & group meditation.  \n\n\n\n12:30 Kiddush Club + Chulent done right \n\n\n\n\n\n\n\n\n\nTo RSVP Email: Rabbisruli@uptownchabad.com
URL:https://uptowncyp.com/event/cyp-shul-lounge-2/2026-09-12/
ATTACH;FMTTYPE=image/jpeg:https://uptowncyp.com/wp-content/uploads/2025/05/Tanya-Class-8-e1746560229890.jpg
END:VEVENT
BEGIN:VEVENT
DTSTART;TZID=America/Toronto:20260919T100000
DTEND;TZID=America/Toronto:20260919T130000
DTSTAMP:20260420T061026
CREATED:20251219T163138Z
LAST-MODIFIED:20251219T205457Z
UID:10002678-1789812000-1789822800@uptowncyp.com
SUMMARY:CYP Shul Lounge
DESCRIPTION:A Reimagined Shul Experience for Young Jews.   \n\n\n\n10:30 Chassidut – Learn about yourself over hot brews & bites.  \n\n\n\n11:00 Tefilla – Prayer & group meditation.  \n\n\n\n12:30 Kiddush Club + Chulent done right \n\n\n\n\n\n\n\n\n\nTo RSVP Email: Rabbisruli@uptownchabad.com
URL:https://uptowncyp.com/event/cyp-shul-lounge-2/2026-09-19/
ATTACH;FMTTYPE=image/jpeg:https://uptowncyp.com/wp-content/uploads/2025/05/Tanya-Class-8-e1746560229890.jpg
END:VEVENT
BEGIN:VEVENT
DTSTART;TZID=America/Toronto:20260926T100000
DTEND;TZID=America/Toronto:20260926T130000
DTSTAMP:20260420T061026
CREATED:20251219T163138Z
LAST-MODIFIED:20251219T205457Z
UID:10002679-1790416800-1790427600@uptowncyp.com
SUMMARY:CYP Shul Lounge
DESCRIPTION:A Reimagined Shul Experience for Young Jews.   \n\n\n\n10:30 Chassidut – Learn about yourself over hot brews & bites.  \n\n\n\n11:00 Tefilla – Prayer & group meditation.  \n\n\n\n12:30 Kiddush Club + Chulent done right \n\n\n\n\n\n\n\n\n\nTo RSVP Email: Rabbisruli@uptownchabad.com
URL:https://uptowncyp.com/event/cyp-shul-lounge-2/2026-09-26/
ATTACH;FMTTYPE=image/jpeg:https://uptowncyp.com/wp-content/uploads/2025/05/Tanya-Class-8-e1746560229890.jpg
END:VEVENT
BEGIN:VEVENT
DTSTART;TZID=America/Toronto:20261003T100000
DTEND;TZID=America/Toronto:20261003T130000
DTSTAMP:20260420T061026
CREATED:20251219T163138Z
LAST-MODIFIED:20251219T205457Z
UID:10002680-1791021600-1791032400@uptowncyp.com
SUMMARY:CYP Shul Lounge
DESCRIPTION:A Reimagined Shul Experience for Young Jews.   \n\n\n\n10:30 Chassidut – Learn about yourself over hot brews & bites.  \n\n\n\n11:00 Tefilla – Prayer & group meditation.  \n\n\n\n12:30 Kiddush Club + Chulent done right \n\n\n\n\n\n\n\n\n\nTo RSVP Email: Rabbisruli@uptownchabad.com
URL:https://uptowncyp.com/event/cyp-shul-lounge-2/2026-10-03/
ATTACH;FMTTYPE=image/jpeg:https://uptowncyp.com/wp-content/uploads/2025/05/Tanya-Class-8-e1746560229890.jpg
END:VEVENT
BEGIN:VEVENT
DTSTART;TZID=America/Toronto:20261010T100000
DTEND;TZID=America/Toronto:20261010T130000
DTSTAMP:20260420T061026
CREATED:20251219T163138Z
LAST-MODIFIED:20251219T205457Z
UID:10002681-1791626400-1791637200@uptowncyp.com
SUMMARY:CYP Shul Lounge
DESCRIPTION:A Reimagined Shul Experience for Young Jews.   \n\n\n\n10:30 Chassidut – Learn about yourself over hot brews & bites.  \n\n\n\n11:00 Tefilla – Prayer & group meditation.  \n\n\n\n12:30 Kiddush Club + Chulent done right \n\n\n\n\n\n\n\n\n\nTo RSVP Email: Rabbisruli@uptownchabad.com
URL:https://uptowncyp.com/event/cyp-shul-lounge-2/2026-10-10/
ATTACH;FMTTYPE=image/jpeg:https://uptowncyp.com/wp-content/uploads/2025/05/Tanya-Class-8-e1746560229890.jpg
END:VEVENT
BEGIN:VEVENT
DTSTART;TZID=America/Toronto:20261017T100000
DTEND;TZID=America/Toronto:20261017T130000
DTSTAMP:20260420T061026
CREATED:20251219T163138Z
LAST-MODIFIED:20251219T205457Z
UID:10002682-1792231200-1792242000@uptowncyp.com
SUMMARY:CYP Shul Lounge
DESCRIPTION:A Reimagined Shul Experience for Young Jews.   \n\n\n\n10:30 Chassidut – Learn about yourself over hot brews & bites.  \n\n\n\n11:00 Tefilla – Prayer & group meditation.  \n\n\n\n12:30 Kiddush Club + Chulent done right \n\n\n\n\n\n\n\n\n\nTo RSVP Email: Rabbisruli@uptownchabad.com
URL:https://uptowncyp.com/event/cyp-shul-lounge-2/2026-10-17/
ATTACH;FMTTYPE=image/jpeg:https://uptowncyp.com/wp-content/uploads/2025/05/Tanya-Class-8-e1746560229890.jpg
END:VEVENT
BEGIN:VEVENT
DTSTART;TZID=America/Toronto:20261024T100000
DTEND;TZID=America/Toronto:20261024T130000
DTSTAMP:20260420T061026
CREATED:20251219T163138Z
LAST-MODIFIED:20251219T205457Z
UID:10002683-1792836000-1792846800@uptowncyp.com
SUMMARY:CYP Shul Lounge
DESCRIPTION:A Reimagined Shul Experience for Young Jews.   \n\n\n\n10:30 Chassidut – Learn about yourself over hot brews & bites.  \n\n\n\n11:00 Tefilla – Prayer & group meditation.  \n\n\n\n12:30 Kiddush Club + Chulent done right \n\n\n\n\n\n\n\n\n\nTo RSVP Email: Rabbisruli@uptownchabad.com
URL:https://uptowncyp.com/event/cyp-shul-lounge-2/2026-10-24/
ATTACH;FMTTYPE=image/jpeg:https://uptowncyp.com/wp-content/uploads/2025/05/Tanya-Class-8-e1746560229890.jpg
END:VEVENT
BEGIN:VEVENT
DTSTART;TZID=America/Toronto:20261031T100000
DTEND;TZID=America/Toronto:20261031T130000
DTSTAMP:20260420T061026
CREATED:20251219T163138Z
LAST-MODIFIED:20251219T205457Z
UID:10002684-1793440800-1793451600@uptowncyp.com
SUMMARY:CYP Shul Lounge
DESCRIPTION:A Reimagined Shul Experience for Young Jews.   \n\n\n\n10:30 Chassidut – Learn about yourself over hot brews & bites.  \n\n\n\n11:00 Tefilla – Prayer & group meditation.  \n\n\n\n12:30 Kiddush Club + Chulent done right \n\n\n\n\n\n\n\n\n\nTo RSVP Email: Rabbisruli@uptownchabad.com
URL:https://uptowncyp.com/event/cyp-shul-lounge-2/2026-10-31/
ATTACH;FMTTYPE=image/jpeg:https://uptowncyp.com/wp-content/uploads/2025/05/Tanya-Class-8-e1746560229890.jpg
END:VEVENT
BEGIN:VEVENT
DTSTART;TZID=America/Toronto:20261107T100000
DTEND;TZID=America/Toronto:20261107T130000
DTSTAMP:20260420T061026
CREATED:20251219T163138Z
LAST-MODIFIED:20251219T205457Z
UID:10002685-1794045600-1794056400@uptowncyp.com
SUMMARY:CYP Shul Lounge
DESCRIPTION:A Reimagined Shul Experience for Young Jews.   \n\n\n\n10:30 Chassidut – Learn about yourself over hot brews & bites.  \n\n\n\n11:00 Tefilla – Prayer & group meditation.  \n\n\n\n12:30 Kiddush Club + Chulent done right \n\n\n\n\n\n\n\n\n\nTo RSVP Email: Rabbisruli@uptownchabad.com
URL:https://uptowncyp.com/event/cyp-shul-lounge-2/2026-11-07/
ATTACH;FMTTYPE=image/jpeg:https://uptowncyp.com/wp-content/uploads/2025/05/Tanya-Class-8-e1746560229890.jpg
END:VEVENT
BEGIN:VEVENT
DTSTART;TZID=America/Toronto:20261114T100000
DTEND;TZID=America/Toronto:20261114T130000
DTSTAMP:20260420T061026
CREATED:20251219T163138Z
LAST-MODIFIED:20251219T205457Z
UID:10002686-1794650400-1794661200@uptowncyp.com
SUMMARY:CYP Shul Lounge
DESCRIPTION:A Reimagined Shul Experience for Young Jews.   \n\n\n\n10:30 Chassidut – Learn about yourself over hot brews & bites.  \n\n\n\n11:00 Tefilla – Prayer & group meditation.  \n\n\n\n12:30 Kiddush Club + Chulent done right \n\n\n\n\n\n\n\n\n\nTo RSVP Email: Rabbisruli@uptownchabad.com
URL:https://uptowncyp.com/event/cyp-shul-lounge-2/2026-11-14/
ATTACH;FMTTYPE=image/jpeg:https://uptowncyp.com/wp-content/uploads/2025/05/Tanya-Class-8-e1746560229890.jpg
END:VEVENT
BEGIN:VEVENT
DTSTART;TZID=America/Toronto:20261121T100000
DTEND;TZID=America/Toronto:20261121T130000
DTSTAMP:20260420T061026
CREATED:20251219T163138Z
LAST-MODIFIED:20251219T205457Z
UID:10002687-1795255200-1795266000@uptowncyp.com
SUMMARY:CYP Shul Lounge
DESCRIPTION:A Reimagined Shul Experience for Young Jews.   \n\n\n\n10:30 Chassidut – Learn about yourself over hot brews & bites.  \n\n\n\n11:00 Tefilla – Prayer & group meditation.  \n\n\n\n12:30 Kiddush Club + Chulent done right \n\n\n\n\n\n\n\n\n\nTo RSVP Email: Rabbisruli@uptownchabad.com
URL:https://uptowncyp.com/event/cyp-shul-lounge-2/2026-11-21/
ATTACH;FMTTYPE=image/jpeg:https://uptowncyp.com/wp-content/uploads/2025/05/Tanya-Class-8-e1746560229890.jpg
END:VEVENT
BEGIN:VEVENT
DTSTART;TZID=America/Toronto:20261128T100000
DTEND;TZID=America/Toronto:20261128T130000
DTSTAMP:20260420T061026
CREATED:20251219T163138Z
LAST-MODIFIED:20251219T205457Z
UID:10002688-1795860000-1795870800@uptowncyp.com
SUMMARY:CYP Shul Lounge
DESCRIPTION:A Reimagined Shul Experience for Young Jews.   \n\n\n\n10:30 Chassidut – Learn about yourself over hot brews & bites.  \n\n\n\n11:00 Tefilla – Prayer & group meditation.  \n\n\n\n12:30 Kiddush Club + Chulent done right \n\n\n\n\n\n\n\n\n\nTo RSVP Email: Rabbisruli@uptownchabad.com
URL:https://uptowncyp.com/event/cyp-shul-lounge-2/2026-11-28/
ATTACH;FMTTYPE=image/jpeg:https://uptowncyp.com/wp-content/uploads/2025/05/Tanya-Class-8-e1746560229890.jpg
END:VEVENT
BEGIN:VEVENT
DTSTART;TZID=America/Toronto:20261205T100000
DTEND;TZID=America/Toronto:20261205T130000
DTSTAMP:20260420T061026
CREATED:20251219T163138Z
LAST-MODIFIED:20251219T205457Z
UID:10002689-1796464800-1796475600@uptowncyp.com
SUMMARY:CYP Shul Lounge
DESCRIPTION:A Reimagined Shul Experience for Young Jews.   \n\n\n\n10:30 Chassidut – Learn about yourself over hot brews & bites.  \n\n\n\n11:00 Tefilla – Prayer & group meditation.  \n\n\n\n12:30 Kiddush Club + Chulent done right \n\n\n\n\n\n\n\n\n\nTo RSVP Email: Rabbisruli@uptownchabad.com
URL:https://uptowncyp.com/event/cyp-shul-lounge-2/2026-12-05/
ATTACH;FMTTYPE=image/jpeg:https://uptowncyp.com/wp-content/uploads/2025/05/Tanya-Class-8-e1746560229890.jpg
END:VEVENT
BEGIN:VEVENT
DTSTART;TZID=America/Toronto:20261212T100000
DTEND;TZID=America/Toronto:20261212T130000
DTSTAMP:20260420T061026
CREATED:20251219T163138Z
LAST-MODIFIED:20251219T205457Z
UID:10002690-1797069600-1797080400@uptowncyp.com
SUMMARY:CYP Shul Lounge
DESCRIPTION:A Reimagined Shul Experience for Young Jews.   \n\n\n\n10:30 Chassidut – Learn about yourself over hot brews & bites.  \n\n\n\n11:00 Tefilla – Prayer & group meditation.  \n\n\n\n12:30 Kiddush Club + Chulent done right \n\n\n\n\n\n\n\n\n\nTo RSVP Email: Rabbisruli@uptownchabad.com
URL:https://uptowncyp.com/event/cyp-shul-lounge-2/2026-12-12/
ATTACH;FMTTYPE=image/jpeg:https://uptowncyp.com/wp-content/uploads/2025/05/Tanya-Class-8-e1746560229890.jpg
END:VEVENT
BEGIN:VEVENT
DTSTART;TZID=America/Toronto:20261219T100000
DTEND;TZID=America/Toronto:20261219T130000
DTSTAMP:20260420T061026
CREATED:20251219T163138Z
LAST-MODIFIED:20251219T205457Z
UID:10002691-1797674400-1797685200@uptowncyp.com
SUMMARY:CYP Shul Lounge
DESCRIPTION:A Reimagined Shul Experience for Young Jews.   \n\n\n\n10:30 Chassidut – Learn about yourself over hot brews & bites.  \n\n\n\n11:00 Tefilla – Prayer & group meditation.  \n\n\n\n12:30 Kiddush Club + Chulent done right \n\n\n\n\n\n\n\n\n\nTo RSVP Email: Rabbisruli@uptownchabad.com
URL:https://uptowncyp.com/event/cyp-shul-lounge-2/2026-12-19/
ATTACH;FMTTYPE=image/jpeg:https://uptowncyp.com/wp-content/uploads/2025/05/Tanya-Class-8-e1746560229890.jpg
END:VEVENT
BEGIN:VEVENT
DTSTART;TZID=America/Toronto:20261226T100000
DTEND;TZID=America/Toronto:20261226T130000
DTSTAMP:20260420T061026
CREATED:20251219T163138Z
LAST-MODIFIED:20251219T205457Z
UID:10002692-1798279200-1798290000@uptowncyp.com
SUMMARY:CYP Shul Lounge
DESCRIPTION:A Reimagined Shul Experience for Young Jews.   \n\n\n\n10:30 Chassidut – Learn about yourself over hot brews & bites.  \n\n\n\n11:00 Tefilla – Prayer & group meditation.  \n\n\n\n12:30 Kiddush Club + Chulent done right \n\n\n\n\n\n\n\n\n\nTo RSVP Email: Rabbisruli@uptownchabad.com
URL:https://uptowncyp.com/event/cyp-shul-lounge-2/2026-12-26/
ATTACH;FMTTYPE=image/jpeg:https://uptowncyp.com/wp-content/uploads/2025/05/Tanya-Class-8-e1746560229890.jpg
END:VEVENT
BEGIN:VEVENT
DTSTART;TZID=America/Toronto:20270102T100000
DTEND;TZID=America/Toronto:20270102T130000
DTSTAMP:20260420T061026
CREATED:20251219T163138Z
LAST-MODIFIED:20251219T205457Z
UID:10002693-1798884000-1798894800@uptowncyp.com
SUMMARY:CYP Shul Lounge
DESCRIPTION:A Reimagined Shul Experience for Young Jews.   \n\n\n\n10:30 Chassidut – Learn about yourself over hot brews & bites.  \n\n\n\n11:00 Tefilla – Prayer & group meditation.  \n\n\n\n12:30 Kiddush Club + Chulent done right \n\n\n\n\n\n\n\n\n\nTo RSVP Email: Rabbisruli@uptownchabad.com
URL:https://uptowncyp.com/event/cyp-shul-lounge-2/2027-01-02/
ATTACH;FMTTYPE=image/jpeg:https://uptowncyp.com/wp-content/uploads/2025/05/Tanya-Class-8-e1746560229890.jpg
END:VEVENT
BEGIN:VEVENT
DTSTART;TZID=America/Toronto:20270109T100000
DTEND;TZID=America/Toronto:20270109T130000
DTSTAMP:20260420T061027
CREATED:20251219T163138Z
LAST-MODIFIED:20251219T205457Z
UID:10002694-1799488800-1799499600@uptowncyp.com
SUMMARY:CYP Shul Lounge
DESCRIPTION:A Reimagined Shul Experience for Young Jews.   \n\n\n\n10:30 Chassidut – Learn about yourself over hot brews & bites.  \n\n\n\n11:00 Tefilla – Prayer & group meditation.  \n\n\n\n12:30 Kiddush Club + Chulent done right \n\n\n\n\n\n\n\n\n\nTo RSVP Email: Rabbisruli@uptownchabad.com
URL:https://uptowncyp.com/event/cyp-shul-lounge-2/2027-01-09/
ATTACH;FMTTYPE=image/jpeg:https://uptowncyp.com/wp-content/uploads/2025/05/Tanya-Class-8-e1746560229890.jpg
END:VEVENT
BEGIN:VEVENT
DTSTART;TZID=America/Toronto:20270116T100000
DTEND;TZID=America/Toronto:20270116T130000
DTSTAMP:20260420T061027
CREATED:20251219T163138Z
LAST-MODIFIED:20251219T205457Z
UID:10002695-1800093600-1800104400@uptowncyp.com
SUMMARY:CYP Shul Lounge
DESCRIPTION:A Reimagined Shul Experience for Young Jews.   \n\n\n\n10:30 Chassidut – Learn about yourself over hot brews & bites.  \n\n\n\n11:00 Tefilla – Prayer & group meditation.  \n\n\n\n12:30 Kiddush Club + Chulent done right \n\n\n\n\n\n\n\n\n\nTo RSVP Email: Rabbisruli@uptownchabad.com
URL:https://uptowncyp.com/event/cyp-shul-lounge-2/2027-01-16/
ATTACH;FMTTYPE=image/jpeg:https://uptowncyp.com/wp-content/uploads/2025/05/Tanya-Class-8-e1746560229890.jpg
END:VEVENT
BEGIN:VEVENT
DTSTART;TZID=America/Toronto:20270123T100000
DTEND;TZID=America/Toronto:20270123T130000
DTSTAMP:20260420T061027
CREATED:20251219T163138Z
LAST-MODIFIED:20251219T205457Z
UID:10002696-1800698400-1800709200@uptowncyp.com
SUMMARY:CYP Shul Lounge
DESCRIPTION:A Reimagined Shul Experience for Young Jews.   \n\n\n\n10:30 Chassidut – Learn about yourself over hot brews & bites.  \n\n\n\n11:00 Tefilla – Prayer & group meditation.  \n\n\n\n12:30 Kiddush Club + Chulent done right \n\n\n\n\n\n\n\n\n\nTo RSVP Email: Rabbisruli@uptownchabad.com
URL:https://uptowncyp.com/event/cyp-shul-lounge-2/2027-01-23/
ATTACH;FMTTYPE=image/jpeg:https://uptowncyp.com/wp-content/uploads/2025/05/Tanya-Class-8-e1746560229890.jpg
END:VEVENT
BEGIN:VEVENT
DTSTART;TZID=America/Toronto:20270130T100000
DTEND;TZID=America/Toronto:20270130T130000
DTSTAMP:20260420T061027
CREATED:20251219T163138Z
LAST-MODIFIED:20251219T205457Z
UID:10002697-1801303200-1801314000@uptowncyp.com
SUMMARY:CYP Shul Lounge
DESCRIPTION:A Reimagined Shul Experience for Young Jews.   \n\n\n\n10:30 Chassidut – Learn about yourself over hot brews & bites.  \n\n\n\n11:00 Tefilla – Prayer & group meditation.  \n\n\n\n12:30 Kiddush Club + Chulent done right \n\n\n\n\n\n\n\n\n\nTo RSVP Email: Rabbisruli@uptownchabad.com
URL:https://uptowncyp.com/event/cyp-shul-lounge-2/2027-01-30/
ATTACH;FMTTYPE=image/jpeg:https://uptowncyp.com/wp-content/uploads/2025/05/Tanya-Class-8-e1746560229890.jpg
END:VEVENT
BEGIN:VEVENT
DTSTART;TZID=America/Toronto:20270206T100000
DTEND;TZID=America/Toronto:20270206T130000
DTSTAMP:20260420T061027
CREATED:20251219T163138Z
LAST-MODIFIED:20251219T205457Z
UID:10002698-1801908000-1801918800@uptowncyp.com
SUMMARY:CYP Shul Lounge
DESCRIPTION:A Reimagined Shul Experience for Young Jews.   \n\n\n\n10:30 Chassidut – Learn about yourself over hot brews & bites.  \n\n\n\n11:00 Tefilla – Prayer & group meditation.  \n\n\n\n12:30 Kiddush Club + Chulent done right \n\n\n\n\n\n\n\n\n\nTo RSVP Email: Rabbisruli@uptownchabad.com
URL:https://uptowncyp.com/event/cyp-shul-lounge-2/2027-02-06/
ATTACH;FMTTYPE=image/jpeg:https://uptowncyp.com/wp-content/uploads/2025/05/Tanya-Class-8-e1746560229890.jpg
END:VEVENT
BEGIN:VEVENT
DTSTART;TZID=America/Toronto:20270213T100000
DTEND;TZID=America/Toronto:20270213T130000
DTSTAMP:20260420T061027
CREATED:20251219T163138Z
LAST-MODIFIED:20251219T205457Z
UID:10002699-1802512800-1802523600@uptowncyp.com
SUMMARY:CYP Shul Lounge
DESCRIPTION:A Reimagined Shul Experience for Young Jews.   \n\n\n\n10:30 Chassidut – Learn about yourself over hot brews & bites.  \n\n\n\n11:00 Tefilla – Prayer & group meditation.  \n\n\n\n12:30 Kiddush Club + Chulent done right \n\n\n\n\n\n\n\n\n\nTo RSVP Email: Rabbisruli@uptownchabad.com
URL:https://uptowncyp.com/event/cyp-shul-lounge-2/2027-02-13/
ATTACH;FMTTYPE=image/jpeg:https://uptowncyp.com/wp-content/uploads/2025/05/Tanya-Class-8-e1746560229890.jpg
END:VEVENT
BEGIN:VEVENT
DTSTART;TZID=America/Toronto:20270220T100000
DTEND;TZID=America/Toronto:20270220T130000
DTSTAMP:20260420T061027
CREATED:20251219T163138Z
LAST-MODIFIED:20251219T205457Z
UID:10002700-1803117600-1803128400@uptowncyp.com
SUMMARY:CYP Shul Lounge
DESCRIPTION:A Reimagined Shul Experience for Young Jews.   \n\n\n\n10:30 Chassidut – Learn about yourself over hot brews & bites.  \n\n\n\n11:00 Tefilla – Prayer & group meditation.  \n\n\n\n12:30 Kiddush Club + Chulent done right \n\n\n\n\n\n\n\n\n\nTo RSVP Email: Rabbisruli@uptownchabad.com
URL:https://uptowncyp.com/event/cyp-shul-lounge-2/2027-02-20/
ATTACH;FMTTYPE=image/jpeg:https://uptowncyp.com/wp-content/uploads/2025/05/Tanya-Class-8-e1746560229890.jpg
END:VEVENT
BEGIN:VEVENT
DTSTART;TZID=America/Toronto:20270227T100000
DTEND;TZID=America/Toronto:20270227T130000
DTSTAMP:20260420T061027
CREATED:20251219T163138Z
LAST-MODIFIED:20251219T205457Z
UID:10002701-1803722400-1803733200@uptowncyp.com
SUMMARY:CYP Shul Lounge
DESCRIPTION:A Reimagined Shul Experience for Young Jews.   \n\n\n\n10:30 Chassidut – Learn about yourself over hot brews & bites.  \n\n\n\n11:00 Tefilla – Prayer & group meditation.  \n\n\n\n12:30 Kiddush Club + Chulent done right \n\n\n\n\n\n\n\n\n\nTo RSVP Email: Rabbisruli@uptownchabad.com
URL:https://uptowncyp.com/event/cyp-shul-lounge-2/2027-02-27/
ATTACH;FMTTYPE=image/jpeg:https://uptowncyp.com/wp-content/uploads/2025/05/Tanya-Class-8-e1746560229890.jpg
END:VEVENT
BEGIN:VEVENT
DTSTART;TZID=America/Toronto:20270306T100000
DTEND;TZID=America/Toronto:20270306T130000
DTSTAMP:20260420T061027
CREATED:20251219T163138Z
LAST-MODIFIED:20251219T205457Z
UID:10002702-1804327200-1804338000@uptowncyp.com
SUMMARY:CYP Shul Lounge
DESCRIPTION:A Reimagined Shul Experience for Young Jews.   \n\n\n\n10:30 Chassidut – Learn about yourself over hot brews & bites.  \n\n\n\n11:00 Tefilla – Prayer & group meditation.  \n\n\n\n12:30 Kiddush Club + Chulent done right \n\n\n\n\n\n\n\n\n\nTo RSVP Email: Rabbisruli@uptownchabad.com
URL:https://uptowncyp.com/event/cyp-shul-lounge-2/2027-03-06/
ATTACH;FMTTYPE=image/jpeg:https://uptowncyp.com/wp-content/uploads/2025/05/Tanya-Class-8-e1746560229890.jpg
END:VEVENT
BEGIN:VEVENT
DTSTART;TZID=America/Toronto:20270313T100000
DTEND;TZID=America/Toronto:20270313T130000
DTSTAMP:20260420T061027
CREATED:20251219T163138Z
LAST-MODIFIED:20251219T205457Z
UID:10002703-1804932000-1804942800@uptowncyp.com
SUMMARY:CYP Shul Lounge
DESCRIPTION:A Reimagined Shul Experience for Young Jews.   \n\n\n\n10:30 Chassidut – Learn about yourself over hot brews & bites.  \n\n\n\n11:00 Tefilla – Prayer & group meditation.  \n\n\n\n12:30 Kiddush Club + Chulent done right \n\n\n\n\n\n\n\n\n\nTo RSVP Email: Rabbisruli@uptownchabad.com
URL:https://uptowncyp.com/event/cyp-shul-lounge-2/2027-03-13/
ATTACH;FMTTYPE=image/jpeg:https://uptowncyp.com/wp-content/uploads/2025/05/Tanya-Class-8-e1746560229890.jpg
END:VEVENT
BEGIN:VEVENT
DTSTART;TZID=America/Toronto:20270320T100000
DTEND;TZID=America/Toronto:20270320T130000
DTSTAMP:20260420T061027
CREATED:20251219T163138Z
LAST-MODIFIED:20251219T205457Z
UID:10002704-1805536800-1805547600@uptowncyp.com
SUMMARY:CYP Shul Lounge
DESCRIPTION:A Reimagined Shul Experience for Young Jews.   \n\n\n\n10:30 Chassidut – Learn about yourself over hot brews & bites.  \n\n\n\n11:00 Tefilla – Prayer & group meditation.  \n\n\n\n12:30 Kiddush Club + Chulent done right \n\n\n\n\n\n\n\n\n\nTo RSVP Email: Rabbisruli@uptownchabad.com
URL:https://uptowncyp.com/event/cyp-shul-lounge-2/2027-03-20/
ATTACH;FMTTYPE=image/jpeg:https://uptowncyp.com/wp-content/uploads/2025/05/Tanya-Class-8-e1746560229890.jpg
END:VEVENT
END:VCALENDAR